BEGIN:VCALENDAR
VERSION:2.0
PRODID:-//Fellowship Baptist Church - ECPv6.15.17//NONSGML v1.0//EN
CALSCALE:GREGORIAN
METHOD:PUBLISH
X-ORIGINAL-URL:https://www.fbclebanonoh.com
X-WR-CALDESC:Events for Fellowship Baptist Church
REFRESH-INTERVAL;VALUE=DURATION:PT1H
X-Robots-Tag:noindex
X-PUBLISHED-TTL:PT1H
BEGIN:VTIMEZONE
TZID:America/New_York
BEGIN:DAYLIGHT
TZOFFSETFROM:-0500
TZOFFSETTO:-0400
TZNAME:EDT
DTSTART:20250309T070000
END:DAYLIGHT
BEGIN:STANDARD
TZOFFSETFROM:-0400
TZOFFSETTO:-0500
TZNAME:EST
DTSTART:20251102T060000
END:STANDARD
BEGIN:DAYLIGHT
TZOFFSETFROM:-0500
TZOFFSETTO:-0400
TZNAME:EDT
DTSTART:20260308T070000
END:DAYLIGHT
BEGIN:STANDARD
TZOFFSETFROM:-0400
TZOFFSETTO:-0500
TZNAME:EST
DTSTART:20261101T060000
END:STANDARD
BEGIN:DAYLIGHT
TZOFFSETFROM:-0500
TZOFFSETTO:-0400
TZNAME:EDT
DTSTART:20270314T070000
END:DAYLIGHT
BEGIN:STANDARD
TZOFFSETFROM:-0400
TZOFFSETTO:-0500
TZNAME:EST
DTSTART:20271107T060000
END:STANDARD
END:VTIMEZONE
BEGIN:VEVENT
DTSTART;TZID=America/New_York:20260424T090000
DTEND;TZID=America/New_York:20260424T090000
DTSTAMP:20260423T122320
CREATED:20260202T185206Z
LAST-MODIFIED:20260202T185206Z
UID:690-1777021200-1777021200@www.fbclebanonoh.com
SUMMARY:FTL Cleaning Day
DESCRIPTION:
URL:https://www.fbclebanonoh.com/event/ftl-cleaning-day-6/
LOCATION:Fellowship Tract League\, 3733 Snook Rd\, Morrow\, OH\, 45152\, United States
CATEGORIES:Fellowship Tract League
ATTACH;FMTTYPE=image/jpeg:https://www.fbclebanonoh.com/wp-content/uploads/2021/04/cleaning.jpg
END:VEVENT
BEGIN:VEVENT
DTSTART;TZID=America/New_York:20260425T103000
DTEND;TZID=America/New_York:20260425T103000
DTSTAMP:20260423T122320
CREATED:20260202T185259Z
LAST-MODIFIED:20260202T185259Z
UID:693-1777113000-1777113000@www.fbclebanonoh.com
SUMMARY:Mother and Daughter Brunch
DESCRIPTION:
URL:https://www.fbclebanonoh.com/event/mother-and-daughter-brunch-6/
LOCATION:Fellowship Baptist Church\, 1634 Shattuck St\, Lebanon\, OH\, 45036\, United States
CATEGORIES:Womens' Ministry
ATTACH;FMTTYPE=image/jpeg:https://www.fbclebanonoh.com/wp-content/uploads/2021/04/brunch.jpg
END:VEVENT
BEGIN:VEVENT
DTSTART;TZID=America/New_York:20260426T190000
DTEND;TZID=America/New_York:20260426T190000
DTSTAMP:20260423T122320
CREATED:20260202T185332Z
LAST-MODIFIED:20260202T185332Z
UID:695-1777230000-1777230000@www.fbclebanonoh.com
SUMMARY:Church Business Meeting
DESCRIPTION:Members\, please make plans to join us for a church business meeting after the evening service.
URL:https://www.fbclebanonoh.com/event/church-business-meeting-5/
LOCATION:Fellowship Baptist Church\, 1634 Shattuck St\, Lebanon\, OH\, 45036\, United States
CATEGORIES:Business Meeting
ATTACH;FMTTYPE=image/jpeg:https://www.fbclebanonoh.com/wp-content/uploads/2022/02/chairs.jpg
END:VEVENT
END:VCALENDAR