BEGIN:VCALENDAR
VERSION:2.0
PRODID:-//Fellowship Baptist Church - ECPv6.15.17//NONSGML v1.0//EN
CALSCALE:GREGORIAN
METHOD:PUBLISH
X-WR-CALNAME:Fellowship Baptist Church
X-ORIGINAL-URL:https://www.fbclebanonoh.com
X-WR-CALDESC:Events for Fellowship Baptist Church
REFRESH-INTERVAL;VALUE=DURATION:PT1H
X-Robots-Tag:noindex
X-PUBLISHED-TTL:PT1H
BEGIN:VTIMEZONE
TZID:America/New_York
BEGIN:DAYLIGHT
TZOFFSETFROM:-0500
TZOFFSETTO:-0400
TZNAME:EDT
DTSTART:20250309T070000
END:DAYLIGHT
BEGIN:STANDARD
TZOFFSETFROM:-0400
TZOFFSETTO:-0500
TZNAME:EST
DTSTART:20251102T060000
END:STANDARD
BEGIN:DAYLIGHT
TZOFFSETFROM:-0500
TZOFFSETTO:-0400
TZNAME:EDT
DTSTART:20260308T070000
END:DAYLIGHT
BEGIN:STANDARD
TZOFFSETFROM:-0400
TZOFFSETTO:-0500
TZNAME:EST
DTSTART:20261101T060000
END:STANDARD
BEGIN:DAYLIGHT
TZOFFSETFROM:-0500
TZOFFSETTO:-0400
TZNAME:EDT
DTSTART:20270314T070000
END:DAYLIGHT
BEGIN:STANDARD
TZOFFSETFROM:-0400
TZOFFSETTO:-0500
TZNAME:EST
DTSTART:20271107T060000
END:STANDARD
END:VTIMEZONE
BEGIN:VEVENT
DTSTART;VALUE=DATE:20260803
DTEND;VALUE=DATE:20260807
DTSTAMP:20260423T180832
CREATED:20260202T190220Z
LAST-MODIFIED:20260202T190220Z
UID:711-1785715200-1786060799@www.fbclebanonoh.com
SUMMARY:Vacation Bible School
DESCRIPTION:Join us for our 2026 Vacation Bible School every evening from Monday through Thursday\, August 3–6\, 2026.
URL:https://www.fbclebanonoh.com/event/vacation-bible-school-3/
LOCATION:Fellowship Baptist Church\, 1634 Shattuck St\, Lebanon\, OH\, 45036\, United States
CATEGORIES:Childrens' Ministry,Outreach
ATTACH;FMTTYPE=image/webp:https://www.fbclebanonoh.com/wp-content/uploads/2026/02/Bannockburn-Church-Austin-Dripping-Springs-Buda-Kyle-VBS-2025-Texas-Vacation-Bible-School.webp
END:VEVENT
BEGIN:VEVENT
DTSTART;VALUE=DATE:20260823
DTEND;VALUE=DATE:20260824
DTSTAMP:20260423T180832
CREATED:20260302T213725Z
LAST-MODIFIED:20260302T214022Z
UID:748-1787443200-1787529599@www.fbclebanonoh.com
SUMMARY:Revival Meeting with James Jones
DESCRIPTION:Dr. James Jones will be with us August 23–26 for a revival meeting. Dr. Jones will preach both morning and evening service on August 23\, and will be preaching Monday–Wednesday evenings at 7:00pm.
URL:https://www.fbclebanonoh.com/event/revival-meeting-with-james-jones/
LOCATION:Fellowship Baptist Church\, 1634 Shattuck St\, Lebanon\, OH\, 45036\, United States
CATEGORIES:Churchwide,Revival Meeting
ATTACH;FMTTYPE=image/jpeg:https://www.fbclebanonoh.com/wp-content/uploads/2021/04/james-jones.jpg
END:VEVENT
BEGIN:VEVENT
DTSTART;TZID=America/New_York:20260823T180000
DTEND;TZID=America/New_York:20260823T180000
DTSTAMP:20260423T180832
CREATED:20260202T190250Z
LAST-MODIFIED:20260202T190250Z
UID:714-1787508000-1787508000@www.fbclebanonoh.com
SUMMARY:The Lord’s Supper
DESCRIPTION:We will be observing the Lord’s Supper during the evening service.
URL:https://www.fbclebanonoh.com/event/the-lords-supper-12/
LOCATION:Fellowship Baptist Church\, 1634 Shattuck St\, Lebanon\, OH\, 45036\, United States
CATEGORIES:Churchwide
ATTACH;FMTTYPE=image/jpeg:https://www.fbclebanonoh.com/wp-content/uploads/2021/04/communion.jpg
END:VEVENT
BEGIN:VEVENT
DTSTART;TZID=America/New_York:20260824T190000
DTEND;TZID=America/New_York:20260824T190000
DTSTAMP:20260423T180832
CREATED:20260302T213811Z
LAST-MODIFIED:20260302T214007Z
UID:751-1787598000-1787598000@www.fbclebanonoh.com
SUMMARY:Revival Meeting with James Jones
DESCRIPTION:Dr. James Jones will be with us August 23–26 for a revival meeting. Dr. Jones will preach both morning and evening service on August 23\, and will be preaching Monday–Wednesday evenings at 7:00pm.
URL:https://www.fbclebanonoh.com/event/revival-meeting-with-james-jones-2/
LOCATION:Fellowship Baptist Church\, 1634 Shattuck St\, Lebanon\, OH\, 45036\, United States
CATEGORIES:Churchwide,Revival Meeting
ATTACH;FMTTYPE=image/jpeg:https://www.fbclebanonoh.com/wp-content/uploads/2021/04/james-jones.jpg
END:VEVENT
BEGIN:VEVENT
DTSTART;TZID=America/New_York:20260825T190000
DTEND;TZID=America/New_York:20260825T190000
DTSTAMP:20260423T180832
CREATED:20260302T213847Z
LAST-MODIFIED:20260302T213953Z
UID:754-1787684400-1787684400@www.fbclebanonoh.com
SUMMARY:Revival Meeting with James Jones
DESCRIPTION:Dr. James Jones will be with us August 23–26 for a revival meeting. Dr. Jones will preach both morning and evening service on August 23\, and will be preaching Monday–Wednesday evenings at 7:00pm.
URL:https://www.fbclebanonoh.com/event/revival-meeting-with-james-jones-3/
LOCATION:Fellowship Baptist Church\, 1634 Shattuck St\, Lebanon\, OH\, 45036\, United States
CATEGORIES:Churchwide,Revival Meeting
ATTACH;FMTTYPE=image/jpeg:https://www.fbclebanonoh.com/wp-content/uploads/2021/04/james-jones.jpg
END:VEVENT
BEGIN:VEVENT
DTSTART;TZID=America/New_York:20260826T190000
DTEND;TZID=America/New_York:20260826T190000
DTSTAMP:20260423T180832
CREATED:20260302T213924Z
LAST-MODIFIED:20260302T213931Z
UID:756-1787770800-1787770800@www.fbclebanonoh.com
SUMMARY:Revival Meeting with James Jones
DESCRIPTION:Dr. James Jones will be with us August 23–26 for a revival meeting. Dr. Jones will preach both morning and evening service on August 23\, and will be preaching Monday–Wednesday evenings at 7:00pm.
URL:https://www.fbclebanonoh.com/event/revival-meeting-with-james-jones-4/
LOCATION:Fellowship Baptist Church\, 1634 Shattuck St\, Lebanon\, OH\, 45036\, United States
CATEGORIES:Churchwide,Revival Meeting
ATTACH;FMTTYPE=image/jpeg:https://www.fbclebanonoh.com/wp-content/uploads/2021/04/james-jones.jpg
END:VEVENT
END:VCALENDAR