BEGIN:VCALENDAR
VERSION:2.0
PRODID:-//Fellowship Baptist Church - ECPv6.15.17//NONSGML v1.0//EN
CALSCALE:GREGORIAN
METHOD:PUBLISH
X-ORIGINAL-URL:https://www.fbclebanonoh.com
X-WR-CALDESC:Events for Fellowship Baptist Church
REFRESH-INTERVAL;VALUE=DURATION:PT1H
X-Robots-Tag:noindex
X-PUBLISHED-TTL:PT1H
BEGIN:VTIMEZONE
TZID:America/New_York
BEGIN:DAYLIGHT
TZOFFSETFROM:-0500
TZOFFSETTO:-0400
TZNAME:EDT
DTSTART:20240310T070000
END:DAYLIGHT
BEGIN:STANDARD
TZOFFSETFROM:-0400
TZOFFSETTO:-0500
TZNAME:EST
DTSTART:20241103T060000
END:STANDARD
BEGIN:DAYLIGHT
TZOFFSETFROM:-0500
TZOFFSETTO:-0400
TZNAME:EDT
DTSTART:20250309T070000
END:DAYLIGHT
BEGIN:STANDARD
TZOFFSETFROM:-0400
TZOFFSETTO:-0500
TZNAME:EST
DTSTART:20251102T060000
END:STANDARD
BEGIN:DAYLIGHT
TZOFFSETFROM:-0500
TZOFFSETTO:-0400
TZNAME:EDT
DTSTART:20260308T070000
END:DAYLIGHT
BEGIN:STANDARD
TZOFFSETFROM:-0400
TZOFFSETTO:-0500
TZNAME:EST
DTSTART:20261101T060000
END:STANDARD
END:VTIMEZONE
BEGIN:VEVENT
DTSTART;TZID=America/New_York:20251204T180000
DTEND;TZID=America/New_York:20251204T180000
DTSTAMP:20260423T181202
CREATED:20250303T152924Z
LAST-MODIFIED:20250303T152924Z
UID:660-1764871200-1764871200@www.fbclebanonoh.com
SUMMARY:Ladies’ Christmas Party
DESCRIPTION:
URL:https://www.fbclebanonoh.com/event/ladies-christmas-party-4/
LOCATION:Fellowship Baptist Church\, 1634 Shattuck St\, Lebanon\, OH\, 45036\, United States
CATEGORIES:Womens' Ministry
ATTACH;FMTTYPE=image/jpeg:https://www.fbclebanonoh.com/wp-content/uploads/2022/02/christmas-wreath.jpg
END:VEVENT
BEGIN:VEVENT
DTSTART;TZID=America/New_York:20251221T110000
DTEND;TZID=America/New_York:20251221T110000
DTSTAMP:20260423T181202
CREATED:20250303T152950Z
LAST-MODIFIED:20250303T152950Z
UID:662-1766314800-1766314800@www.fbclebanonoh.com
SUMMARY:Christmas Cantata
DESCRIPTION:
URL:https://www.fbclebanonoh.com/event/christmas-cantata-4/
LOCATION:Fellowship Baptist Church\, 1634 Shattuck St\, Lebanon\, OH\, 45036\, United States
CATEGORIES:Churchwide
ATTACH;FMTTYPE=image/jpeg:https://www.fbclebanonoh.com/wp-content/uploads/2021/04/cantata.jpg
END:VEVENT
END:VCALENDAR