BEGIN:VCALENDAR
VERSION:2.0
PRODID:-//Fellowship Baptist Church - ECPv6.15.17//NONSGML v1.0//EN
CALSCALE:GREGORIAN
METHOD:PUBLISH
X-ORIGINAL-URL:https://www.fbclebanonoh.com
X-WR-CALDESC:Events for Fellowship Baptist Church
REFRESH-INTERVAL;VALUE=DURATION:PT1H
X-Robots-Tag:noindex
X-PUBLISHED-TTL:PT1H
BEGIN:VTIMEZONE
TZID:America/New_York
BEGIN:DAYLIGHT
TZOFFSETFROM:-0500
TZOFFSETTO:-0400
TZNAME:EDT
DTSTART:20240310T070000
END:DAYLIGHT
BEGIN:STANDARD
TZOFFSETFROM:-0400
TZOFFSETTO:-0500
TZNAME:EST
DTSTART:20241103T060000
END:STANDARD
BEGIN:DAYLIGHT
TZOFFSETFROM:-0500
TZOFFSETTO:-0400
TZNAME:EDT
DTSTART:20250309T070000
END:DAYLIGHT
BEGIN:STANDARD
TZOFFSETFROM:-0400
TZOFFSETTO:-0500
TZNAME:EST
DTSTART:20251102T060000
END:STANDARD
BEGIN:DAYLIGHT
TZOFFSETFROM:-0500
TZOFFSETTO:-0400
TZNAME:EDT
DTSTART:20260308T070000
END:DAYLIGHT
BEGIN:STANDARD
TZOFFSETFROM:-0400
TZOFFSETTO:-0500
TZNAME:EST
DTSTART:20261101T060000
END:STANDARD
END:VTIMEZONE
BEGIN:VEVENT
DTSTART;TZID=America/New_York:20251005T180000
DTEND;TZID=America/New_York:20251005T180000
DTSTAMP:20260423T212941
CREATED:20250227T203028Z
LAST-MODIFIED:20250227T203028Z
UID:647-1759687200-1759687200@www.fbclebanonoh.com
SUMMARY:Missionary John Combest
DESCRIPTION:Join us Sunday evening\, October 5 to hear from missionary John Combest (missionary to The Democratic Republic of the Congo).
URL:https://www.fbclebanonoh.com/event/missionary-john-combest/
LOCATION:Fellowship Baptist Church\, 1634 Shattuck St\, Lebanon\, OH\, 45036\, United States
CATEGORIES:Churchwide
ATTACH;FMTTYPE=image/webp:https://www.fbclebanonoh.com/wp-content/uploads/2025/02/globe.webp
END:VEVENT
BEGIN:VEVENT
DTSTART;VALUE=DATE:20251012
DTEND;VALUE=DATE:20251013
DTSTAMP:20260423T212941
CREATED:20250303T152412Z
LAST-MODIFIED:20250303T152412Z
UID:651-1760227200-1760313599@www.fbclebanonoh.com
SUMMARY:Thren Family
DESCRIPTION:The Thren Family will be joining us Sunday\, October 12.
URL:https://www.fbclebanonoh.com/event/thren-family-music/
LOCATION:Fellowship Baptist Church\, 1634 Shattuck St\, Lebanon\, OH\, 45036\, United States
CATEGORIES:Churchwide
ATTACH;FMTTYPE=image/webp:https://www.fbclebanonoh.com/wp-content/uploads/2025/03/thren-family.webp
END:VEVENT
BEGIN:VEVENT
DTSTART;TZID=America/New_York:20251015T183000
DTEND;TZID=America/New_York:20251015T183000
DTSTAMP:20260423T212941
CREATED:20250303T152500Z
LAST-MODIFIED:20250303T152500Z
UID:654-1760553000-1760553000@www.fbclebanonoh.com
SUMMARY:Midweek Service at LBT
DESCRIPTION:There will be no midweek service at Fellowship on Wednesday\, October 15 as we will be joining Lebanon Baptist Temple for a joined midweek service.
URL:https://www.fbclebanonoh.com/event/midweek-service-at-lbt-4/
LOCATION:Lebanon Baptist Temple\, 130 W Silver St\, Lebanon\, OH\, 45036\, United States
CATEGORIES:Churchwide
ATTACH;FMTTYPE=image/jpeg:https://www.fbclebanonoh.com/wp-content/uploads/2021/04/lbt.jpg
END:VEVENT
END:VCALENDAR