BEGIN:VCALENDAR
VERSION:2.0
PRODID:-//Fellowship Baptist Church - ECPv6.15.17//NONSGML v1.0//EN
CALSCALE:GREGORIAN
METHOD:PUBLISH
X-WR-CALNAME:Fellowship Baptist Church
X-ORIGINAL-URL:https://www.fbclebanonoh.com
X-WR-CALDESC:Events for Fellowship Baptist Church
REFRESH-INTERVAL;VALUE=DURATION:PT1H
X-Robots-Tag:noindex
X-PUBLISHED-TTL:PT1H
BEGIN:VTIMEZONE
TZID:America/New_York
BEGIN:DAYLIGHT
TZOFFSETFROM:-0500
TZOFFSETTO:-0400
TZNAME:EDT
DTSTART:20210314T070000
END:DAYLIGHT
BEGIN:STANDARD
TZOFFSETFROM:-0400
TZOFFSETTO:-0500
TZNAME:EST
DTSTART:20211107T060000
END:STANDARD
BEGIN:DAYLIGHT
TZOFFSETFROM:-0500
TZOFFSETTO:-0400
TZNAME:EDT
DTSTART:20220313T070000
END:DAYLIGHT
BEGIN:STANDARD
TZOFFSETFROM:-0400
TZOFFSETTO:-0500
TZNAME:EST
DTSTART:20221106T060000
END:STANDARD
BEGIN:DAYLIGHT
TZOFFSETFROM:-0500
TZOFFSETTO:-0400
TZNAME:EDT
DTSTART:20230312T070000
END:DAYLIGHT
BEGIN:STANDARD
TZOFFSETFROM:-0400
TZOFFSETTO:-0500
TZNAME:EST
DTSTART:20231105T060000
END:STANDARD
BEGIN:DAYLIGHT
TZOFFSETFROM:-0500
TZOFFSETTO:-0400
TZNAME:EDT
DTSTART:20240310T070000
END:DAYLIGHT
BEGIN:STANDARD
TZOFFSETFROM:-0400
TZOFFSETTO:-0500
TZNAME:EST
DTSTART:20241103T060000
END:STANDARD
END:VTIMEZONE
BEGIN:VEVENT
DTSTART;VALUE=DATE:20230716
DTEND;VALUE=DATE:20230720
DTSTAMP:20260424T120707
CREATED:20230328T020708Z
LAST-MODIFIED:20230601T194305Z
UID:457-1689465600-1689811199@www.fbclebanonoh.com
SUMMARY:Revival Meeting with Brian McBride
DESCRIPTION:Join us for a Revival Meeting with evangelist Brian McBride. He will be preaching the morning and evening services on Sunday\, July 16\, and every evening at 7:00 p.m. from Monday\, July 17 to Wednesday\, July 19.
URL:https://www.fbclebanonoh.com/event/revival-meeting-with-brian-mcbride/
LOCATION:Fellowship Baptist Church\, 1634 Shattuck St\, Lebanon\, OH\, 45036\, United States
CATEGORIES:Churchwide,Conference
ATTACH;FMTTYPE=image/jpeg:https://www.fbclebanonoh.com/wp-content/uploads/2023/03/brian-mcbride.jpg
END:VEVENT
BEGIN:VEVENT
DTSTART;TZID=America/New_York:20230702T100000
DTEND;TZID=America/New_York:20230702T100000
DTSTAMP:20260424T120707
CREATED:20230328T015049Z
LAST-MODIFIED:20230328T015049Z
UID:455-1688292000-1688292000@www.fbclebanonoh.com
SUMMARY:Homecoming Service
DESCRIPTION:Make plans to join us for our 2023 Homecoming Service. There will be no evening service.
URL:https://www.fbclebanonoh.com/event/homecoming-service-3/
LOCATION:Fellowship Baptist Church\, 1634 Shattuck St\, Lebanon\, OH\, 45036\, United States
CATEGORIES:Churchwide
ATTACH;FMTTYPE=image/jpeg:https://www.fbclebanonoh.com/wp-content/uploads/2021/04/church.jpg
END:VEVENT
BEGIN:VEVENT
DTSTART;VALUE=DATE:20230618
DTEND;VALUE=DATE:20230619
DTSTAMP:20260424T120707
CREATED:20230328T013932Z
LAST-MODIFIED:20230519T183724Z
UID:449-1687046400-1687132799@www.fbclebanonoh.com
SUMMARY:Father’s Day with Roger Green
DESCRIPTION:Roger Green will be with us for Father’s Day and will be preaching at the morning and evening services.
URL:https://www.fbclebanonoh.com/event/roger-green-fathers-day/
LOCATION:Fellowship Baptist Church\, 1634 Shattuck St\, Lebanon\, OH\, 45036\, United States
CATEGORIES:Churchwide
ATTACH;FMTTYPE=image/jpeg:https://www.fbclebanonoh.com/wp-content/uploads/2022/02/roger-green.jpg
END:VEVENT
BEGIN:VEVENT
DTSTART;TZID=America/New_York:20230616T170000
DTEND;TZID=America/New_York:20230617T100000
DTSTAMP:20260424T120707
CREATED:20230328T013831Z
LAST-MODIFIED:20230328T013831Z
UID:446-1686934800-1686996000@www.fbclebanonoh.com
SUMMARY:Mens’ Camp Out and Breakfast
DESCRIPTION:Join us for a mens’ camp out and breakfast at 8:00am the next morning at the church.
URL:https://www.fbclebanonoh.com/event/mens-camp-out-and-breakfast/
LOCATION:Fellowship Baptist Church\, 1634 Shattuck St\, Lebanon\, OH\, 45036\, United States
CATEGORIES:Mens' Ministry
ATTACH;FMTTYPE=image/jpeg:https://www.fbclebanonoh.com/wp-content/uploads/2023/03/campfire.jpg
END:VEVENT
BEGIN:VEVENT
DTSTART;TZID=America/New_York:20230611T190000
DTEND;TZID=America/New_York:20230611T190000
DTSTAMP:20260424T120707
CREATED:20230328T012530Z
LAST-MODIFIED:20230328T013000Z
UID:442-1686510000-1686510000@www.fbclebanonoh.com
SUMMARY:Sunday School Symposium
DESCRIPTION:Join us for a Sunday School symposium after the evening service.
URL:https://www.fbclebanonoh.com/event/sunday-school-symposium/
LOCATION:Fellowship Baptist Church\, 1634 Shattuck St\, Lebanon\, OH\, 45036\, United States
CATEGORIES:Churchwide
ATTACH;FMTTYPE=image/jpeg:https://www.fbclebanonoh.com/wp-content/uploads/2023/03/sunday-school.jpg
END:VEVENT
BEGIN:VEVENT
DTSTART;TZID=America/New_York:20230528T120000
DTEND;TZID=America/New_York:20230528T120000
DTSTAMP:20260424T120707
CREATED:20230328T012133Z
LAST-MODIFIED:20230328T012133Z
UID:440-1685275200-1685275200@www.fbclebanonoh.com
SUMMARY:Fellowship Dinner
DESCRIPTION:Join us for a dinner together after the morning service\, potluck style. There will be no evening service.
URL:https://www.fbclebanonoh.com/event/fellowship-dinner-4/
LOCATION:Fellowship Baptist Church\, 1634 Shattuck St\, Lebanon\, OH\, 45036\, United States
CATEGORIES:Churchwide
ATTACH;FMTTYPE=image/jpeg:https://www.fbclebanonoh.com/wp-content/uploads/2021/04/table.jpg
END:VEVENT
BEGIN:VEVENT
DTSTART;VALUE=DATE:20230522
DTEND;VALUE=DATE:20230526
DTSTAMP:20260424T120707
CREATED:20230328T012005Z
LAST-MODIFIED:20230328T012005Z
UID:438-1684713600-1685059199@www.fbclebanonoh.com
SUMMARY:Bread of Life Camp Meeting
DESCRIPTION:The Fellowship Baptist Church of Lebanon\, Ohio invites you to the 2023 Bread of Life Camp Meeting. For many years\, God has met with us in a very special way\, and we are looking for a special blessing as we celebrate 39 years of the Bread of Life Camp Meeting. \nWe are looking forward to hearing great preaching from faithful men of God from all around the country. We hope you’ll make plans to attend\, and we pray that you will receive a special blessing from the Lord.
URL:https://www.fbclebanonoh.com/event/bread-of-life-camp-meeting-3/
LOCATION:Fellowship Baptist Church\, 1634 Shattuck St\, Lebanon\, OH\, 45036\, United States
CATEGORIES:Churchwide,Conference
ATTACH;FMTTYPE=image/jpeg:https://www.fbclebanonoh.com/wp-content/uploads/2021/04/church.jpg
END:VEVENT
BEGIN:VEVENT
DTSTART;TZID=America/New_York:20230506T100000
DTEND;TZID=America/New_York:20230506T100000
DTSTAMP:20260424T120707
CREATED:20230328T011757Z
LAST-MODIFIED:20230328T011757Z
UID:436-1683367200-1683367200@www.fbclebanonoh.com
SUMMARY:Mother and Daughter Brunch
DESCRIPTION:
URL:https://www.fbclebanonoh.com/event/mother-and-daughter-brunch-3/
LOCATION:Fellowship Baptist Church\, 1634 Shattuck St\, Lebanon\, OH\, 45036\, United States
CATEGORIES:Womens' Ministry
ATTACH;FMTTYPE=image/jpeg:https://www.fbclebanonoh.com/wp-content/uploads/2021/04/brunch.jpg
END:VEVENT
BEGIN:VEVENT
DTSTART;TZID=America/New_York:20230427T090000
DTEND;TZID=America/New_York:20230427T090000
DTSTAMP:20260424T120707
CREATED:20230328T011620Z
LAST-MODIFIED:20230328T011620Z
UID:434-1682586000-1682586000@www.fbclebanonoh.com
SUMMARY:FTL Cleaning Day
DESCRIPTION:
URL:https://www.fbclebanonoh.com/event/ftl-cleaning-day-3/
LOCATION:Fellowship Tract League\, 3733 Snook Rd\, Morrow\, OH\, 45152\, United States
CATEGORIES:Fellowship Tract League
ATTACH;FMTTYPE=image/jpeg:https://www.fbclebanonoh.com/wp-content/uploads/2021/04/cleaning.jpg
END:VEVENT
BEGIN:VEVENT
DTSTART;TZID=America/New_York:20230416T190000
DTEND;TZID=America/New_York:20230416T190000
DTSTAMP:20260424T120707
CREATED:20230328T011458Z
LAST-MODIFIED:20230328T011458Z
UID:432-1681671600-1681671600@www.fbclebanonoh.com
SUMMARY:Church Business Meeting
DESCRIPTION:Church business meeting after the evening service.
URL:https://www.fbclebanonoh.com/event/church-business-meeting-2/
LOCATION:Fellowship Baptist Church\, 1634 Shattuck St\, Lebanon\, OH\, 45036\, United States
CATEGORIES:Business Meeting,Churchwide
ATTACH;FMTTYPE=image/jpeg:https://www.fbclebanonoh.com/wp-content/uploads/2022/02/chairs.jpg
END:VEVENT
BEGIN:VEVENT
DTSTART;TZID=America/New_York:20230409T180000
DTEND;TZID=America/New_York:20230409T180000
DTSTAMP:20260424T120707
CREATED:20230328T011350Z
LAST-MODIFIED:20230328T011350Z
UID:430-1681063200-1681063200@www.fbclebanonoh.com
SUMMARY:The Lord’s Supper
DESCRIPTION:Join us as we observe the Lord’s Supper in the evening service.
URL:https://www.fbclebanonoh.com/event/the-lords-supper-6/
LOCATION:Fellowship Baptist Church\, 1634 Shattuck St\, Lebanon\, OH\, 45036\, United States
CATEGORIES:Churchwide
ATTACH;FMTTYPE=image/jpeg:https://www.fbclebanonoh.com/wp-content/uploads/2021/04/communion.jpg
END:VEVENT
BEGIN:VEVENT
DTSTART;TZID=America/New_York:20230409T110000
DTEND;TZID=America/New_York:20230409T110000
DTSTAMP:20260424T120707
CREATED:20230328T011258Z
LAST-MODIFIED:20230328T023557Z
UID:428-1681038000-1681038000@www.fbclebanonoh.com
SUMMARY:Easter Cantata
DESCRIPTION:
URL:https://www.fbclebanonoh.com/event/easter-cantata-2/
LOCATION:Fellowship Baptist Church\, 1634 Shattuck St\, Lebanon\, OH\, 45036\, United States
CATEGORIES:Churchwide
ATTACH;FMTTYPE=image/jpeg:https://www.fbclebanonoh.com/wp-content/uploads/2023/03/hymnal.jpg
END:VEVENT
BEGIN:VEVENT
DTSTART;TZID=America/New_York:20230405T190000
DTEND;TZID=America/New_York:20230405T190000
DTSTAMP:20260424T120707
CREATED:20230328T011207Z
LAST-MODIFIED:20230328T011207Z
UID:426-1680721200-1680721200@www.fbclebanonoh.com
SUMMARY:Children’s Easter at FBC
DESCRIPTION:
URL:https://www.fbclebanonoh.com/event/childrens-easter-at-fbc/
LOCATION:Fellowship Baptist Church\, 1634 Shattuck St\, Lebanon\, OH\, 45036\, United States
CATEGORIES:Childrens' Ministry,Churchwide
ATTACH;FMTTYPE=image/jpeg:https://www.fbclebanonoh.com/wp-content/uploads/2022/02/easter-program.jpg
END:VEVENT
BEGIN:VEVENT
DTSTART;TZID=America/New_York:20230402T170000
DTEND;TZID=America/New_York:20230402T170000
DTSTAMP:20260424T120707
CREATED:20230328T010850Z
LAST-MODIFIED:20230328T011015Z
UID:424-1680454800-1680454800@www.fbclebanonoh.com
SUMMARY:Men’s Meeting and Nomination
DESCRIPTION:Men’s business and nomination meeting after the morning service.
URL:https://www.fbclebanonoh.com/event/mens-meeting-and-nomination/
LOCATION:Fellowship Baptist Church\, 1634 Shattuck St\, Lebanon\, OH\, 45036\, United States
CATEGORIES:Business Meeting
ATTACH;FMTTYPE=image/jpeg:https://www.fbclebanonoh.com/wp-content/uploads/2022/02/chairs.jpg
END:VEVENT
BEGIN:VEVENT
DTSTART;TZID=America/New_York:20230401T090000
DTEND;TZID=America/New_York:20230401T090000
DTSTAMP:20260424T120707
CREATED:20230328T010604Z
LAST-MODIFIED:20230328T010604Z
UID:422-1680339600-1680339600@www.fbclebanonoh.com
SUMMARY:Church Cleaning Day
DESCRIPTION:
URL:https://www.fbclebanonoh.com/event/church-cleaning-day-2/
LOCATION:Fellowship Baptist Church\, 1634 Shattuck St\, Lebanon\, OH\, 45036\, United States
CATEGORIES:Churchwide
ATTACH;FMTTYPE=image/jpeg:https://www.fbclebanonoh.com/wp-content/uploads/2021/04/cleaning.jpg
END:VEVENT
BEGIN:VEVENT
DTSTART;TZID=America/New_York:20221225T110000
DTEND;TZID=America/New_York:20221225T110000
DTSTAMP:20260424T120707
CREATED:20220228T223330Z
LAST-MODIFIED:20220228T223330Z
UID:412-1671966000-1671966000@www.fbclebanonoh.com
SUMMARY:Christmas Service
DESCRIPTION:We will be having a special combined service for Christmas Sunday. Sunday school and the evening service will be combined into the 11:00 am worship service.
URL:https://www.fbclebanonoh.com/event/christmas-service/
LOCATION:Fellowship Baptist Church\, 1634 Shattuck St\, Lebanon\, OH\, 45036\, United States
CATEGORIES:Churchwide
ATTACH;FMTTYPE=image/jpeg:https://www.fbclebanonoh.com/wp-content/uploads/2021/04/candle.jpg
END:VEVENT
BEGIN:VEVENT
DTSTART;TZID=America/New_York:20221218T180000
DTEND;TZID=America/New_York:20221218T180000
DTSTAMP:20260424T120707
CREATED:20220228T223140Z
LAST-MODIFIED:20220228T223140Z
UID:409-1671386400-1671386400@www.fbclebanonoh.com
SUMMARY:The Lord’s Supper
DESCRIPTION:Join us as we observe the Lord’s Supper in the evening service.
URL:https://www.fbclebanonoh.com/event/the-lords-supper-5/
LOCATION:Fellowship Baptist Church\, 1634 Shattuck St\, Lebanon\, OH\, 45036\, United States
CATEGORIES:Churchwide
ATTACH;FMTTYPE=image/jpeg:https://www.fbclebanonoh.com/wp-content/uploads/2021/04/communion.jpg
END:VEVENT
BEGIN:VEVENT
DTSTART;TZID=America/New_York:20221218T110000
DTEND;TZID=America/New_York:20221218T110000
DTSTAMP:20260424T120707
CREATED:20220228T223025Z
LAST-MODIFIED:20220228T223025Z
UID:407-1671361200-1671361200@www.fbclebanonoh.com
SUMMARY:Christmas Cantata
DESCRIPTION:
URL:https://www.fbclebanonoh.com/event/christmas-cantata-2/
LOCATION:Fellowship Baptist Church\, 1634 Shattuck St\, Lebanon\, OH\, 45036\, United States
CATEGORIES:Churchwide
ATTACH;FMTTYPE=image/jpeg:https://www.fbclebanonoh.com/wp-content/uploads/2021/04/cantata.jpg
END:VEVENT
BEGIN:VEVENT
DTSTART;TZID=America/New_York:20221214T190000
DTEND;TZID=America/New_York:20221214T190000
DTSTAMP:20260424T120707
CREATED:20220228T222907Z
LAST-MODIFIED:20220228T222907Z
UID:404-1671044400-1671044400@www.fbclebanonoh.com
SUMMARY:Childrens’ Christmas Program
DESCRIPTION:
URL:https://www.fbclebanonoh.com/event/childrens-christmas-program/
LOCATION:Fellowship Baptist Church\, 1634 Shattuck St\, Lebanon\, OH\, 45036\, United States
CATEGORIES:Childrens' Ministry
ATTACH;FMTTYPE=image/jpeg:https://www.fbclebanonoh.com/wp-content/uploads/2022/02/christmas-program.jpg
END:VEVENT
BEGIN:VEVENT
DTSTART;TZID=America/New_York:20221208T180000
DTEND;TZID=America/New_York:20221208T180000
DTSTAMP:20260424T120707
CREATED:20220228T222750Z
LAST-MODIFIED:20220228T222750Z
UID:401-1670522400-1670522400@www.fbclebanonoh.com
SUMMARY:Ladies' Christmas Party
DESCRIPTION:
URL:https://www.fbclebanonoh.com/event/ladies-christmas-party/
LOCATION:Fellowship Baptist Church\, 1634 Shattuck St\, Lebanon\, OH\, 45036\, United States
CATEGORIES:Womens' Ministry
ATTACH;FMTTYPE=image/jpeg:https://www.fbclebanonoh.com/wp-content/uploads/2022/02/christmas-wreath.jpg
END:VEVENT
BEGIN:VEVENT
DTSTART;TZID=America/New_York:20221203T180000
DTEND;TZID=America/New_York:20221203T180000
DTSTAMP:20260424T120707
CREATED:20220228T221937Z
LAST-MODIFIED:20220228T221937Z
UID:399-1670090400-1670090400@www.fbclebanonoh.com
SUMMARY:Christmas Dinner
DESCRIPTION:
URL:https://www.fbclebanonoh.com/event/christmas-dinner-2/
LOCATION:Fellowship Baptist Church\, 1634 Shattuck St\, Lebanon\, OH\, 45036\, United States
CATEGORIES:Churchwide
ATTACH;FMTTYPE=image/jpeg:https://www.fbclebanonoh.com/wp-content/uploads/2021/04/christmas-trees.jpg
END:VEVENT
BEGIN:VEVENT
DTSTART;TZID=America/New_York:20221122T190000
DTEND;TZID=America/New_York:20221122T190000
DTSTAMP:20260424T120707
CREATED:20220228T221808Z
LAST-MODIFIED:20220228T222013Z
UID:397-1669143600-1669143600@www.fbclebanonoh.com
SUMMARY:Thanksgiving Service
DESCRIPTION:Join us for a special Thanksgiving service Tuesday\, November 22. There will be no midweek service Wednesday\, November 23.
URL:https://www.fbclebanonoh.com/event/thanksgiving-service-2/
LOCATION:Fellowship Baptist Church\, 1634 Shattuck St\, Lebanon\, OH\, 45036\, United States
CATEGORIES:Churchwide
ATTACH;FMTTYPE=image/jpeg:https://www.fbclebanonoh.com/wp-content/uploads/2021/04/thank-you.jpg
END:VEVENT
BEGIN:VEVENT
DTSTART;TZID=America/New_York:20221112T170000
DTEND;TZID=America/New_York:20221112T170000
DTSTAMP:20260424T120707
CREATED:20220228T221612Z
LAST-MODIFIED:20220228T221612Z
UID:395-1668272400-1668272400@www.fbclebanonoh.com
SUMMARY:Workers’ Appreciation Dinner
DESCRIPTION:
URL:https://www.fbclebanonoh.com/event/workers-appreciation-dinner-2/
LOCATION:Fellowship Baptist Church\, 1634 Shattuck St\, Lebanon\, OH\, 45036\, United States
CATEGORIES:Churchwide
ATTACH;FMTTYPE=image/jpeg:https://www.fbclebanonoh.com/wp-content/uploads/2021/04/thanks.jpg
END:VEVENT
BEGIN:VEVENT
DTSTART;TZID=America/New_York:20221106T120000
DTEND;TZID=America/New_York:20221106T120000
DTSTAMP:20260424T120707
CREATED:20220228T221508Z
LAST-MODIFIED:20220228T221508Z
UID:393-1667736000-1667736000@www.fbclebanonoh.com
SUMMARY:Veterans Dinner
DESCRIPTION:Join us for a dinner in honor of our veterans after the morning service.
URL:https://www.fbclebanonoh.com/event/veterans-dinner-2/
LOCATION:Fellowship Baptist Church\, 1634 Shattuck St\, Lebanon\, OH\, 45036\, United States
CATEGORIES:Churchwide
ATTACH;FMTTYPE=image/jpeg:https://www.fbclebanonoh.com/wp-content/uploads/2021/04/veteran.jpg
END:VEVENT
BEGIN:VEVENT
DTSTART;TZID=America/New_York:20221021T170000
DTEND;TZID=America/New_York:20221021T170000
DTSTAMP:20260424T120707
CREATED:20220228T221312Z
LAST-MODIFIED:20220228T221312Z
UID:391-1666371600-1666371600@www.fbclebanonoh.com
SUMMARY:Fall Festival
DESCRIPTION:
URL:https://www.fbclebanonoh.com/event/fall-festival/
LOCATION:Fellowship Baptist Church\, 1634 Shattuck St\, Lebanon\, OH\, 45036\, United States
CATEGORIES:Churchwide
ATTACH;FMTTYPE=image/jpeg:https://www.fbclebanonoh.com/wp-content/uploads/2021/04/cornucopia.jpg
END:VEVENT
BEGIN:VEVENT
DTSTART;TZID=America/New_York:20221012T183000
DTEND;TZID=America/New_York:20221012T183000
DTSTAMP:20260424T120707
CREATED:20220228T221206Z
LAST-MODIFIED:20220228T221206Z
UID:389-1665599400-1665599400@www.fbclebanonoh.com
SUMMARY:Midweek Service at LBT
DESCRIPTION:There will be no midweek service at Fellowship on Wednesday\, October 12 as we will be joining Lebanon Baptist Temple for a joined midweek service.
URL:https://www.fbclebanonoh.com/event/midweek-service-at-lbt-2/
LOCATION:Lebanon Baptist Temple\, 130 W Silver St\, Lebanon\, OH\, 45036\, United States
CATEGORIES:Churchwide
ATTACH;FMTTYPE=image/jpeg:https://www.fbclebanonoh.com/wp-content/uploads/2021/04/lbt.jpg
END:VEVENT
BEGIN:VEVENT
DTSTART;TZID=America/New_York:20221002T100000
DTEND;TZID=America/New_York:20221002T100000
DTSTAMP:20260424T120707
CREATED:20220228T221056Z
LAST-MODIFIED:20220228T221056Z
UID:387-1664704800-1664704800@www.fbclebanonoh.com
SUMMARY:International Dinner
DESCRIPTION:Join us for a special Missions Conference International Dinner after our morning service. There will be no evening service.
URL:https://www.fbclebanonoh.com/event/international-dinner/
LOCATION:Fellowship Baptist Church\, 1634 Shattuck St\, Lebanon\, OH\, 45036\, United States
CATEGORIES:Churchwide
ATTACH;FMTTYPE=image/jpeg:https://www.fbclebanonoh.com/wp-content/uploads/2021/04/globe.jpg
END:VEVENT
BEGIN:VEVENT
DTSTART;VALUE=DATE:20220928
DTEND;VALUE=DATE:20221001
DTSTAMP:20260424T120708
CREATED:20220228T220921Z
LAST-MODIFIED:20220228T220921Z
UID:385-1664323200-1664582399@www.fbclebanonoh.com
SUMMARY:Missions Conference
DESCRIPTION:Join us for dinner each night at 5:30 p.m. before the 7:00 p.m. service.
URL:https://www.fbclebanonoh.com/event/missions-conference-3/
LOCATION:Fellowship Baptist Church\, 1634 Shattuck St\, Lebanon\, OH\, 45036\, United States
CATEGORIES:Churchwide,Conference
ATTACH;FMTTYPE=image/jpeg:https://www.fbclebanonoh.com/wp-content/uploads/2021/04/globe.jpg
END:VEVENT
BEGIN:VEVENT
DTSTART;VALUE=DATE:20220925
DTEND;VALUE=DATE:20220926
DTSTAMP:20260424T120708
CREATED:20220228T220738Z
LAST-MODIFIED:20220228T220738Z
UID:383-1664064000-1664150399@www.fbclebanonoh.com
SUMMARY:Bro. Jerry Sexton
DESCRIPTION:Bro. Jerry Sexton will be preaching at the morning and evening services.
URL:https://www.fbclebanonoh.com/event/bro-jerry-sexton/
LOCATION:Fellowship Baptist Church\, 1634 Shattuck St\, Lebanon\, OH\, 45036\, United States
CATEGORIES:Churchwide
END:VEVENT
BEGIN:VEVENT
DTSTART;TZID=America/New_York:20220911T180000
DTEND;TZID=America/New_York:20220911T180000
DTSTAMP:20260424T120708
CREATED:20220228T220417Z
LAST-MODIFIED:20220228T220417Z
UID:379-1662919200-1662919200@www.fbclebanonoh.com
SUMMARY:The Lord’s Supper
DESCRIPTION:Join us as we observe the Lord’s Supper in the evening service.
URL:https://www.fbclebanonoh.com/event/the-lords-supper-4/
LOCATION:Fellowship Baptist Church\, 1634 Shattuck St\, Lebanon\, OH\, 45036\, United States
CATEGORIES:Churchwide
ATTACH;FMTTYPE=image/jpeg:https://www.fbclebanonoh.com/wp-content/uploads/2021/04/communion.jpg
END:VEVENT
END:VCALENDAR