BEGIN:VCALENDAR
VERSION:2.0
PRODID:-//Fellowship Baptist Church - ECPv6.15.17//NONSGML v1.0//EN
CALSCALE:GREGORIAN
METHOD:PUBLISH
X-WR-CALNAME:Fellowship Baptist Church
X-ORIGINAL-URL:https://www.fbclebanonoh.com
X-WR-CALDESC:Events for Fellowship Baptist Church
REFRESH-INTERVAL;VALUE=DURATION:PT1H
X-Robots-Tag:noindex
X-PUBLISHED-TTL:PT1H
BEGIN:VTIMEZONE
TZID:America/New_York
BEGIN:DAYLIGHT
TZOFFSETFROM:-0500
TZOFFSETTO:-0400
TZNAME:EDT
DTSTART:20220313T070000
END:DAYLIGHT
BEGIN:STANDARD
TZOFFSETFROM:-0400
TZOFFSETTO:-0500
TZNAME:EST
DTSTART:20221106T060000
END:STANDARD
BEGIN:DAYLIGHT
TZOFFSETFROM:-0500
TZOFFSETTO:-0400
TZNAME:EDT
DTSTART:20230312T070000
END:DAYLIGHT
BEGIN:STANDARD
TZOFFSETFROM:-0400
TZOFFSETTO:-0500
TZNAME:EST
DTSTART:20231105T060000
END:STANDARD
BEGIN:DAYLIGHT
TZOFFSETFROM:-0500
TZOFFSETTO:-0400
TZNAME:EDT
DTSTART:20240310T070000
END:DAYLIGHT
BEGIN:STANDARD
TZOFFSETFROM:-0400
TZOFFSETTO:-0500
TZNAME:EST
DTSTART:20241103T060000
END:STANDARD
BEGIN:DAYLIGHT
TZOFFSETFROM:-0500
TZOFFSETTO:-0400
TZNAME:EDT
DTSTART:20250309T070000
END:DAYLIGHT
BEGIN:STANDARD
TZOFFSETFROM:-0400
TZOFFSETTO:-0500
TZNAME:EST
DTSTART:20251102T060000
END:STANDARD
END:VTIMEZONE
BEGIN:VEVENT
DTSTART;TZID=America/New_York:20240717T190000
DTEND;TZID=America/New_York:20240717T190000
DTSTAMP:20260424T034052
CREATED:20240201T164417Z
LAST-MODIFIED:20240201T164417Z
UID:547-1721242800-1721242800@www.fbclebanonoh.com
SUMMARY:Revival Meeting with Buster Kinsey
DESCRIPTION:Evangelist Buster Kinsey will be joining us for a revival meeting from Sunday\, July 14 through Friday\, July 19\, 2024. He will be preaching both services on Sunday\, then preaching each evening at 7:00pm.
URL:https://www.fbclebanonoh.com/event/revival-meeting-with-buster-kinsey-4/
LOCATION:Fellowship Baptist Church\, 1634 Shattuck St\, Lebanon\, OH\, 45036\, United States
CATEGORIES:Churchwide,Revival Meeting
ATTACH;FMTTYPE=image/jpeg:https://www.fbclebanonoh.com/wp-content/uploads/2024/02/buster-kinsey.jpg
END:VEVENT
BEGIN:VEVENT
DTSTART;TZID=America/New_York:20240716T190000
DTEND;TZID=America/New_York:20240716T190000
DTSTAMP:20260424T034052
CREATED:20240201T164327Z
LAST-MODIFIED:20240201T164327Z
UID:544-1721156400-1721156400@www.fbclebanonoh.com
SUMMARY:Revival Meeting with Buster Kinsey
DESCRIPTION:Evangelist Buster Kinsey will be joining us for a revival meeting from Sunday\, July 14 through Friday\, July 19\, 2024. He will be preaching both services on Sunday\, then preaching each evening at 7:00pm.
URL:https://www.fbclebanonoh.com/event/revival-meeting-with-buster-kinsey-3/
LOCATION:Fellowship Baptist Church\, 1634 Shattuck St\, Lebanon\, OH\, 45036\, United States
CATEGORIES:Churchwide,Revival Meeting
ATTACH;FMTTYPE=image/jpeg:https://www.fbclebanonoh.com/wp-content/uploads/2024/02/buster-kinsey.jpg
END:VEVENT
BEGIN:VEVENT
DTSTART;TZID=America/New_York:20240715T190000
DTEND;TZID=America/New_York:20240715T190000
DTSTAMP:20260424T034052
CREATED:20240201T164242Z
LAST-MODIFIED:20240201T164242Z
UID:541-1721070000-1721070000@www.fbclebanonoh.com
SUMMARY:Revival Meeting with Buster Kinsey
DESCRIPTION:Evangelist Buster Kinsey will be joining us for a revival meeting from Sunday\, July 14 through Friday\, July 19\, 2024. He will be preaching both services on Sunday\, then preaching each evening at 7:00pm.
URL:https://www.fbclebanonoh.com/event/revival-meeting-with-buster-kinsey-2/
LOCATION:Fellowship Baptist Church\, 1634 Shattuck St\, Lebanon\, OH\, 45036\, United States
CATEGORIES:Churchwide,Revival Meeting
ATTACH;FMTTYPE=image/jpeg:https://www.fbclebanonoh.com/wp-content/uploads/2024/02/buster-kinsey.jpg
END:VEVENT
BEGIN:VEVENT
DTSTART;TZID=America/New_York:20240714T000000
DTEND;TZID=America/New_York:20240714T235959
DTSTAMP:20260424T034052
CREATED:20240201T164202Z
LAST-MODIFIED:20240201T164202Z
UID:537-1720915200-1721001599@www.fbclebanonoh.com
SUMMARY:Revival Meeting with Buster Kinsey
DESCRIPTION:Evangelist Buster Kinsey will be joining us for a revival meeting from Sunday\, July 14 through Friday\, July 19\, 2024. He will be preaching both services on Sunday\, then preaching each evening at 7:00pm.
URL:https://www.fbclebanonoh.com/event/revival-meeting-with-buster-kinsey/
LOCATION:Fellowship Baptist Church\, 1634 Shattuck St\, Lebanon\, OH\, 45036\, United States
CATEGORIES:Churchwide,Revival Meeting
ATTACH;FMTTYPE=image/jpeg:https://www.fbclebanonoh.com/wp-content/uploads/2024/02/buster-kinsey.jpg
END:VEVENT
BEGIN:VEVENT
DTSTART;TZID=America/New_York:20240707T000000
DTEND;TZID=America/New_York:20240707T235959
DTSTAMP:20260424T034052
CREATED:20240201T163756Z
LAST-MODIFIED:20240201T163756Z
UID:534-1720310400-1720396799@www.fbclebanonoh.com
SUMMARY:Deaf Choir (Hands of Praise) Sunday
DESCRIPTION:
URL:https://www.fbclebanonoh.com/event/deaf-choir-hands-of-praise-sunday/
LOCATION:Fellowship Baptist Church\, 1634 Shattuck St\, Lebanon\, OH\, 45036\, United States
CATEGORIES:Churchwide
ATTACH;FMTTYPE=image/jpeg:https://www.fbclebanonoh.com/wp-content/uploads/2024/02/hands-of-praise.jpg
END:VEVENT
BEGIN:VEVENT
DTSTART;TZID=America/New_York:20240616T000000
DTEND;TZID=America/New_York:20240616T235959
DTSTAMP:20260424T034052
CREATED:20240201T162931Z
LAST-MODIFIED:20240201T163503Z
UID:531-1718496000-1718582399@www.fbclebanonoh.com
SUMMARY:Evangelist Mark Rogers
DESCRIPTION:Evangelist and singer Mark Rogers will be singing and preaching at the morning and evening services.
URL:https://www.fbclebanonoh.com/event/evangelist-mark-rogers-3/
LOCATION:Fellowship Baptist Church\, 1634 Shattuck St\, Lebanon\, OH\, 45036\, United States
CATEGORIES:Churchwide
ATTACH;FMTTYPE=image/jpeg:https://www.fbclebanonoh.com/wp-content/uploads/2024/02/mark-rogers.jpg
END:VEVENT
BEGIN:VEVENT
DTSTART;TZID=America/New_York:20240615T103000
DTEND;TZID=America/New_York:20240615T103000
DTSTAMP:20260424T034052
CREATED:20240201T162851Z
LAST-MODIFIED:20240510T141524Z
UID:528-1718447400-1718447400@www.fbclebanonoh.com
SUMMARY:Sportsman’s Dinner
DESCRIPTION:Men and Boys: Please join us for a Wild Game Sportsman’s Dinner on Saturday\, June 15 at Fellowship Baptist Church! We’ll have a high-powered pellet range competition\, wild game meal\, and prizes for competition winners! The event is free\, but please register below if you plan on attending so we can plan meals accordingly. \nOrder of Events\n\n10:30–11:00am Range Opens\n11:00am–12:00pm Competitions Begin\n12:00pm Wild Game Meal\n12:40pm Speaker Darren Barnett with Sixth Day Outdoor Ministry\n\nActivities\n\nHigh-Powered Pellet Rifles Only\nPellet Gun and BB Range\n.177 Cal. Rifles Provided\nTwo Man Competition Shoot\nBest Long Distance Shooter\n\nDoor Prizes\n\n.350 Legend (ages 18 and older)\nPellet Rifle (ages 13–17)\nFishing pole (ages 5–12)\nand more!\n\nRegister\nFirst Name *Last Name *Email *Phone *Street Address *Apartment\, suite\, etcCity *State *ZIP * Register
URL:https://www.fbclebanonoh.com/event/sportsmans-dinner/
LOCATION:Fellowship Baptist Church\, 1634 Shattuck St\, Lebanon\, OH\, 45036\, United States
CATEGORIES:Mens' Ministry
ATTACH;FMTTYPE=image/jpeg:https://www.fbclebanonoh.com/wp-content/uploads/2024/02/sportsmans-dinner.jpg
END:VEVENT
BEGIN:VEVENT
DTSTART;TZID=America/New_York:20240520T000000
DTEND;TZID=America/New_York:20240523T235959
DTSTAMP:20260424T034052
CREATED:20240201T162303Z
LAST-MODIFIED:20240201T162303Z
UID:525-1716163200-1716508799@www.fbclebanonoh.com
SUMMARY:Bread of Life Camp Meeting
DESCRIPTION:We are looking forward to another great meeting this year and hearing great preaching from faithful men of God from all around the country. We are also excited to welcome back to the Bread of Life Camp Meeting the Matthews Family and many others for Christ-honoring\, Spirit-filled music. Learn more.
URL:https://www.fbclebanonoh.com/event/bread-of-life-camp-meeting-4/
LOCATION:Fellowship Baptist Church\, 1634 Shattuck St\, Lebanon\, OH\, 45036\, United States
CATEGORIES:Conference
ATTACH;FMTTYPE=image/jpeg:https://www.fbclebanonoh.com/wp-content/uploads/2021/04/church.jpg
END:VEVENT
BEGIN:VEVENT
DTSTART;TZID=America/New_York:20240504T100000
DTEND;TZID=America/New_York:20240504T100000
DTSTAMP:20260424T034052
CREATED:20240201T162015Z
LAST-MODIFIED:20240201T162015Z
UID:523-1714816800-1714816800@www.fbclebanonoh.com
SUMMARY:Mother and Daughter Brunch
DESCRIPTION:
URL:https://www.fbclebanonoh.com/event/mother-and-daughter-brunch-4/
LOCATION:Fellowship Baptist Church\, 1634 Shattuck St\, Lebanon\, OH\, 45036\, United States
CATEGORIES:Womens' Ministry
ATTACH;FMTTYPE=image/jpeg:https://www.fbclebanonoh.com/wp-content/uploads/2021/04/brunch.jpg
END:VEVENT
BEGIN:VEVENT
DTSTART;TZID=America/New_York:20240425T090000
DTEND;TZID=America/New_York:20240425T090000
DTSTAMP:20260424T034052
CREATED:20240201T161539Z
LAST-MODIFIED:20240201T161539Z
UID:516-1714035600-1714035600@www.fbclebanonoh.com
SUMMARY:FTL Cleaning Day
DESCRIPTION:
URL:https://www.fbclebanonoh.com/event/ftl-cleaning-day-4/
LOCATION:Fellowship Tract League\, 3733 Snook Rd\, Morrow\, OH\, 45152\, United States
CATEGORIES:Fellowship Tract League
ATTACH;FMTTYPE=image/jpeg:https://www.fbclebanonoh.com/wp-content/uploads/2021/04/cleaning.jpg
END:VEVENT
BEGIN:VEVENT
DTSTART;TZID=America/New_York:20240421T190000
DTEND;TZID=America/New_York:20240421T190000
DTSTAMP:20260424T034052
CREATED:20240201T161916Z
LAST-MODIFIED:20240201T161916Z
UID:520-1713726000-1713726000@www.fbclebanonoh.com
SUMMARY:Church Business Meeting
DESCRIPTION:Members\, please make plans to join us for a church business meeting after the evening service on April 21\, 2024.
URL:https://www.fbclebanonoh.com/event/church-business-meeting-3/
LOCATION:Fellowship Baptist Church\, 1634 Shattuck St\, Lebanon\, OH\, 45036\, United States
CATEGORIES:Business Meeting
ATTACH;FMTTYPE=image/jpeg:https://www.fbclebanonoh.com/wp-content/uploads/2022/02/chairs.jpg
END:VEVENT
BEGIN:VEVENT
DTSTART;TZID=America/New_York:20240407T170000
DTEND;TZID=America/New_York:20240407T170000
DTSTAMP:20260424T034052
CREATED:20240201T161805Z
LAST-MODIFIED:20240201T161805Z
UID:518-1712509200-1712509200@www.fbclebanonoh.com
SUMMARY:Men’s Meeting and Nomination
DESCRIPTION:
URL:https://www.fbclebanonoh.com/event/mens-meeting-and-nomination-2/
LOCATION:Fellowship Baptist Church\, 1634 Shattuck St\, Lebanon\, OH\, 45036\, United States
CATEGORIES:Business Meeting
ATTACH;FMTTYPE=image/jpeg:https://www.fbclebanonoh.com/wp-content/uploads/2022/02/chairs.jpg
END:VEVENT
BEGIN:VEVENT
DTSTART;TZID=America/New_York:20240406T090000
DTEND;TZID=America/New_York:20240406T090000
DTSTAMP:20260424T034052
CREATED:20240201T161436Z
LAST-MODIFIED:20240201T161436Z
UID:514-1712394000-1712394000@www.fbclebanonoh.com
SUMMARY:Church Cleaning Day
DESCRIPTION:
URL:https://www.fbclebanonoh.com/event/church-cleaning-day-3/
LOCATION:Fellowship Baptist Church\, 1634 Shattuck St\, Lebanon\, OH\, 45036\, United States
CATEGORIES:Churchwide
ATTACH;FMTTYPE=image/jpeg:https://www.fbclebanonoh.com/wp-content/uploads/2021/04/cleaning.jpg
END:VEVENT
BEGIN:VEVENT
DTSTART;TZID=America/New_York:20240331T180000
DTEND;TZID=America/New_York:20240331T180000
DTSTAMP:20260424T034052
CREATED:20240201T161207Z
LAST-MODIFIED:20240201T161207Z
UID:510-1711908000-1711908000@www.fbclebanonoh.com
SUMMARY:The Lord’s Supper
DESCRIPTION:Join us as we observe the Lord’s Supper on Easter Sunday evening.
URL:https://www.fbclebanonoh.com/event/the-lords-supper-8/
LOCATION:Fellowship Baptist Church\, 1634 Shattuck St\, Lebanon\, OH\, 45036\, United States
CATEGORIES:Churchwide
ATTACH;FMTTYPE=image/jpeg:https://www.fbclebanonoh.com/wp-content/uploads/2021/04/communion.jpg
END:VEVENT
BEGIN:VEVENT
DTSTART;TZID=America/New_York:20240331T110000
DTEND;TZID=America/New_York:20240331T110000
DTSTAMP:20260424T034052
CREATED:20240201T161127Z
LAST-MODIFIED:20240201T161127Z
UID:505-1711882800-1711882800@www.fbclebanonoh.com
SUMMARY:Easter Cantata
DESCRIPTION:
URL:https://www.fbclebanonoh.com/event/easter-cantata-3/
LOCATION:Fellowship Baptist Church\, 1634 Shattuck St\, Lebanon\, OH\, 45036\, United States
CATEGORIES:Churchwide
ATTACH;FMTTYPE=image/jpeg:https://www.fbclebanonoh.com/wp-content/uploads/2024/02/easter-cantata-1.jpg
END:VEVENT
BEGIN:VEVENT
DTSTART;TZID=America/New_York:20240327T190000
DTEND;TZID=America/New_York:20240327T190000
DTSTAMP:20260424T034052
CREATED:20240201T161314Z
LAST-MODIFIED:20240201T161314Z
UID:512-1711566000-1711566000@www.fbclebanonoh.com
SUMMARY:Children’s Easter at FBC
DESCRIPTION:
URL:https://www.fbclebanonoh.com/event/childrens-easter-at-fbc-2/
LOCATION:Fellowship Baptist Church\, 1634 Shattuck St\, Lebanon\, OH\, 45036\, United States
CATEGORIES:Childrens' Ministry,Churchwide
ATTACH;FMTTYPE=image/jpeg:https://www.fbclebanonoh.com/wp-content/uploads/2022/02/easter-program.jpg
END:VEVENT
BEGIN:VEVENT
DTSTART;TZID=America/New_York:20240216T180000
DTEND;TZID=America/New_York:20240216T180000
DTSTAMP:20260424T034052
CREATED:20240201T155949Z
LAST-MODIFIED:20240201T155949Z
UID:502-1708106400-1708106400@www.fbclebanonoh.com
SUMMARY:Valentine Banquet
DESCRIPTION:
URL:https://www.fbclebanonoh.com/event/valentine-banquet/
LOCATION:Fellowship Baptist Church\, 1634 Shattuck St\, Lebanon\, OH\, 45036\, United States
CATEGORIES:Banquet
ATTACH;FMTTYPE=image/jpeg:https://www.fbclebanonoh.com/wp-content/uploads/2024/02/valentine-banquet.jpg
END:VEVENT
BEGIN:VEVENT
DTSTART;TZID=America/New_York:20231231T180000
DTEND;TZID=America/New_York:20231231T180000
DTSTAMP:20260424T034052
CREATED:20230328T023217Z
LAST-MODIFIED:20230328T023217Z
UID:480-1704045600-1704045600@www.fbclebanonoh.com
SUMMARY:The Lord’s Supper
DESCRIPTION:Join us as we observe the Lord’s Supper on New Year’s Eve Sunday evening.
URL:https://www.fbclebanonoh.com/event/the-lords-supper-7/
LOCATION:Fellowship Baptist Church\, 1634 Shattuck St\, Lebanon\, OH\, 45036\, United States
CATEGORIES:Churchwide
ATTACH;FMTTYPE=image/jpeg:https://www.fbclebanonoh.com/wp-content/uploads/2021/04/communion.jpg
END:VEVENT
BEGIN:VEVENT
DTSTART;TZID=America/New_York:20231213T190000
DTEND;TZID=America/New_York:20231213T190000
DTSTAMP:20260424T034052
CREATED:20230328T023002Z
LAST-MODIFIED:20230328T023002Z
UID:478-1702494000-1702494000@www.fbclebanonoh.com
SUMMARY:Childrens’ Christmas Program
DESCRIPTION:
URL:https://www.fbclebanonoh.com/event/childrens-christmas-program-2/
LOCATION:Fellowship Baptist Church\, 1634 Shattuck St\, Lebanon\, OH\, 45036\, United States
CATEGORIES:Childrens' Ministry
ATTACH;FMTTYPE=image/jpeg:https://www.fbclebanonoh.com/wp-content/uploads/2022/02/christmas-program.jpg
END:VEVENT
BEGIN:VEVENT
DTSTART;TZID=America/New_York:20231207T180000
DTEND;TZID=America/New_York:20231207T180000
DTSTAMP:20260424T034052
CREATED:20230328T022903Z
LAST-MODIFIED:20230328T022903Z
UID:476-1701972000-1701972000@www.fbclebanonoh.com
SUMMARY:Ladies’ Christmas Party
DESCRIPTION:
URL:https://www.fbclebanonoh.com/event/ladies-christmas-party-2/
LOCATION:Fellowship Baptist Church\, 1634 Shattuck St\, Lebanon\, OH\, 45036\, United States
CATEGORIES:Womens' Ministry
ATTACH;FMTTYPE=image/jpeg:https://www.fbclebanonoh.com/wp-content/uploads/2022/02/christmas-wreath.jpg
END:VEVENT
BEGIN:VEVENT
DTSTART;TZID=America/New_York:20231202T170000
DTEND;TZID=America/New_York:20231202T170000
DTSTAMP:20260424T034052
CREATED:20230328T022803Z
LAST-MODIFIED:20230328T022803Z
UID:474-1701536400-1701536400@www.fbclebanonoh.com
SUMMARY:Christmas Caroling Meet
DESCRIPTION:Join us at the church for an evening of Christmas caroling at 5:00pm.
URL:https://www.fbclebanonoh.com/event/christmas-caroling-meet/
LOCATION:Fellowship Baptist Church\, 1634 Shattuck St\, Lebanon\, OH\, 45036\, United States
CATEGORIES:Churchwide
ATTACH;FMTTYPE=image/jpeg:https://www.fbclebanonoh.com/wp-content/uploads/2021/04/cantata.jpg
END:VEVENT
BEGIN:VEVENT
DTSTART;TZID=America/New_York:20231121T190000
DTEND;TZID=America/New_York:20231121T190000
DTSTAMP:20260424T034052
CREATED:20230328T022425Z
LAST-MODIFIED:20230328T022425Z
UID:472-1700593200-1700593200@www.fbclebanonoh.com
SUMMARY:Thanksgiving Service
DESCRIPTION:Join us for a special Thanksgiving service Tuesday\, November 21. There will be no midweek service Wednesday\, November 23.
URL:https://www.fbclebanonoh.com/event/thanksgiving-service-3/
LOCATION:Fellowship Baptist Church\, 1634 Shattuck St\, Lebanon\, OH\, 45036\, United States
CATEGORIES:Churchwide
ATTACH;FMTTYPE=image/jpeg:https://www.fbclebanonoh.com/wp-content/uploads/2021/04/thank-you.jpg
END:VEVENT
BEGIN:VEVENT
DTSTART;TZID=America/New_York:20231011T183000
DTEND;TZID=America/New_York:20231011T183000
DTSTAMP:20260424T034052
CREATED:20230328T022306Z
LAST-MODIFIED:20230328T022306Z
UID:470-1697049000-1697049000@www.fbclebanonoh.com
SUMMARY:Midweek Service at LBT
DESCRIPTION:There will be no midweek service at Fellowship on Wednesday\, October 11 as we will be joining Lebanon Baptist Temple for a joined midweek service.
URL:https://www.fbclebanonoh.com/event/midweek-service-at-lbt-3/
LOCATION:Lebanon Baptist Temple\, 130 W Silver St\, Lebanon\, OH\, 45036\, United States
CATEGORIES:Churchwide
ATTACH;FMTTYPE=image/jpeg:https://www.fbclebanonoh.com/wp-content/uploads/2021/04/lbt.jpg
END:VEVENT
BEGIN:VEVENT
DTSTART;VALUE=DATE:20231001
DTEND;VALUE=DATE:20231005
DTSTAMP:20260424T034052
CREATED:20230328T022223Z
LAST-MODIFIED:20230328T022223Z
UID:468-1696118400-1696463999@www.fbclebanonoh.com
SUMMARY:Missions Conference
DESCRIPTION:Join us for an international dinner Sunday evening at 5:00pm. Evening services will be held 7:00pm Monday–Wednesday.
URL:https://www.fbclebanonoh.com/event/missions-conference-4/
LOCATION:Fellowship Baptist Church\, 1634 Shattuck St\, Lebanon\, OH\, 45036\, United States
CATEGORIES:Churchwide,Conference
ATTACH;FMTTYPE=image/jpeg:https://www.fbclebanonoh.com/wp-content/uploads/2021/04/globe.jpg
END:VEVENT
BEGIN:VEVENT
DTSTART;TZID=America/New_York:20230903T100000
DTEND;TZID=America/New_York:20230903T100000
DTSTAMP:20260424T034052
CREATED:20230328T022017Z
LAST-MODIFIED:20230519T183905Z
UID:466-1693735200-1693735200@www.fbclebanonoh.com
SUMMARY:Old Fashioned Sunday
DESCRIPTION:Dress up in your oldest outfit! Noah Broughton will be preaching in the morning worship service. We’ll have dinner on the grounds and there will be no evening service.
URL:https://www.fbclebanonoh.com/event/old-fashioned-sunday-2/
LOCATION:Fellowship Baptist Church\, 1634 Shattuck St\, Lebanon\, OH\, 45036\, United States
CATEGORIES:Churchwide
ATTACH;FMTTYPE=image/jpeg:https://www.fbclebanonoh.com/wp-content/uploads/2021/04/old-car.jpg
END:VEVENT
BEGIN:VEVENT
DTSTART;TZID=America/New_York:20230826T090000
DTEND;TZID=America/New_York:20230826T090000
DTSTAMP:20260424T034052
CREATED:20230328T021657Z
LAST-MODIFIED:20230328T021737Z
UID:463-1693040400-1693040400@www.fbclebanonoh.com
SUMMARY:Outdoor Work and Cleaning Day
DESCRIPTION:
URL:https://www.fbclebanonoh.com/event/outdoor-work-and-cleaning-day/
LOCATION:Fellowship Baptist Church\, 1634 Shattuck St\, Lebanon\, OH\, 45036\, United States
CATEGORIES:Churchwide
ATTACH;FMTTYPE=image/jpeg:https://www.fbclebanonoh.com/wp-content/uploads/2023/03/grass.jpg
END:VEVENT
BEGIN:VEVENT
DTSTART;TZID=America/New_York:20230806T180000
DTEND;TZID=America/New_York:20230806T180000
DTSTAMP:20260424T034052
CREATED:20230713T173617Z
LAST-MODIFIED:20230713T174002Z
UID:494-1691344800-1691344800@www.fbclebanonoh.com
SUMMARY:Missionary Michael Lambert
DESCRIPTION:Join us Sunday evening\, August 6 to hear from national missionary Michael Lambert (missionary in Grenada).
URL:https://www.fbclebanonoh.com/event/missionary-michael-lambert/
LOCATION:Fellowship Baptist Church\, 1634 Shattuck St\, Lebanon\, OH\, 45036\, United States
CATEGORIES:Churchwide
ATTACH;FMTTYPE=image/jpeg:https://www.fbclebanonoh.com/wp-content/uploads/2023/07/michael-lambert-family.jpg
END:VEVENT
BEGIN:VEVENT
DTSTART;TZID=America/New_York:20230806T100000
DTEND;TZID=America/New_York:20230806T100000
DTSTAMP:20260424T034052
CREATED:20230328T021153Z
LAST-MODIFIED:20230328T021153Z
UID:460-1691316000-1691316000@www.fbclebanonoh.com
SUMMARY:Promotion and Appreciation Sunday
DESCRIPTION:
URL:https://www.fbclebanonoh.com/event/promotion-and-appreciation-sunday/
LOCATION:Fellowship Baptist Church\, 1634 Shattuck St\, Lebanon\, OH\, 45036\, United States
CATEGORIES:Childrens' Ministry,Churchwide
ATTACH;FMTTYPE=image/jpeg:https://www.fbclebanonoh.com/wp-content/uploads/2023/03/promotion-sunday.jpg
END:VEVENT
BEGIN:VEVENT
DTSTART;VALUE=DATE:20230730
DTEND;VALUE=DATE:20230731
DTSTAMP:20260424T034052
CREATED:20230707T141305Z
LAST-MODIFIED:20230707T141305Z
UID:491-1690675200-1690761599@www.fbclebanonoh.com
SUMMARY:Missionary Len Crow
DESCRIPTION:Missionary Len Crow (Cambodia) will be with us July 30\, 2023.
URL:https://www.fbclebanonoh.com/event/missionary-len-crow/
LOCATION:Fellowship Baptist Church\, 1634 Shattuck St\, Lebanon\, OH\, 45036\, United States
CATEGORIES:Churchwide
ATTACH;FMTTYPE=image/jpeg:https://www.fbclebanonoh.com/wp-content/uploads/2023/07/len-crow.jpg
END:VEVENT
BEGIN:VEVENT
DTSTART;VALUE=DATE:20230716
DTEND;VALUE=DATE:20230720
DTSTAMP:20260424T034052
CREATED:20230328T020708Z
LAST-MODIFIED:20230601T194305Z
UID:457-1689465600-1689811199@www.fbclebanonoh.com
SUMMARY:Revival Meeting with Brian McBride
DESCRIPTION:Join us for a Revival Meeting with evangelist Brian McBride. He will be preaching the morning and evening services on Sunday\, July 16\, and every evening at 7:00 p.m. from Monday\, July 17 to Wednesday\, July 19.
URL:https://www.fbclebanonoh.com/event/revival-meeting-with-brian-mcbride/
LOCATION:Fellowship Baptist Church\, 1634 Shattuck St\, Lebanon\, OH\, 45036\, United States
CATEGORIES:Churchwide,Conference
ATTACH;FMTTYPE=image/jpeg:https://www.fbclebanonoh.com/wp-content/uploads/2023/03/brian-mcbride.jpg
END:VEVENT
END:VCALENDAR