BEGIN:VCALENDAR
VERSION:2.0
PRODID:-//Fellowship Baptist Church - ECPv6.15.17//NONSGML v1.0//EN
CALSCALE:GREGORIAN
METHOD:PUBLISH
X-ORIGINAL-URL:https://www.fbclebanonoh.com
X-WR-CALDESC:Events for Fellowship Baptist Church
REFRESH-INTERVAL;VALUE=DURATION:PT1H
X-Robots-Tag:noindex
X-PUBLISHED-TTL:PT1H
BEGIN:VTIMEZONE
TZID:America/New_York
BEGIN:DAYLIGHT
TZOFFSETFROM:-0500
TZOFFSETTO:-0400
TZNAME:EDT
DTSTART:20250309T070000
END:DAYLIGHT
BEGIN:STANDARD
TZOFFSETFROM:-0400
TZOFFSETTO:-0500
TZNAME:EST
DTSTART:20251102T060000
END:STANDARD
BEGIN:DAYLIGHT
TZOFFSETFROM:-0500
TZOFFSETTO:-0400
TZNAME:EDT
DTSTART:20260308T070000
END:DAYLIGHT
BEGIN:STANDARD
TZOFFSETFROM:-0400
TZOFFSETTO:-0500
TZNAME:EST
DTSTART:20261101T060000
END:STANDARD
BEGIN:DAYLIGHT
TZOFFSETFROM:-0500
TZOFFSETTO:-0400
TZNAME:EDT
DTSTART:20270314T070000
END:DAYLIGHT
BEGIN:STANDARD
TZOFFSETFROM:-0400
TZOFFSETTO:-0500
TZNAME:EST
DTSTART:20271107T060000
END:STANDARD
END:VTIMEZONE
BEGIN:VEVENT
DTSTART;TZID=America/New_York:20261008T190000
DTEND;TZID=America/New_York:20261008T190000
DTSTAMP:20260423T183931
CREATED:20260202T190644Z
LAST-MODIFIED:20260202T190644Z
UID:720-1791486000-1791486000@www.fbclebanonoh.com
SUMMARY:Missions Conference
DESCRIPTION:Join us for our 2026 Missions Conference. Evening services will be held 7:00pm Wednesday–Friday\, October 7–9\, 2026. We will have an international dinner at 5:oopm on Saturday\, October 10\, and our Missions Conference will conclude on Sunday\, October 11.
URL:https://www.fbclebanonoh.com/event/missions-conference-9/
LOCATION:Fellowship Baptist Church\, 1634 Shattuck St\, Lebanon\, OH\, 45036\, United States
CATEGORIES:Churchwide,Conference
ATTACH;FMTTYPE=image/jpeg:https://www.fbclebanonoh.com/wp-content/uploads/2021/04/globe.jpg
END:VEVENT
BEGIN:VEVENT
DTSTART;TZID=America/New_York:20261009T190000
DTEND;TZID=America/New_York:20261009T190000
DTSTAMP:20260423T183931
CREATED:20260202T190659Z
LAST-MODIFIED:20260202T190659Z
UID:722-1791572400-1791572400@www.fbclebanonoh.com
SUMMARY:Missions Conference
DESCRIPTION:Join us for our 2026 Missions Conference. Evening services will be held 7:00pm Wednesday–Friday\, October 7–9\, 2026. We will have an international dinner at 5:oopm on Saturday\, October 10\, and our Missions Conference will conclude on Sunday\, October 11.
URL:https://www.fbclebanonoh.com/event/missions-conference-10/
LOCATION:Fellowship Baptist Church\, 1634 Shattuck St\, Lebanon\, OH\, 45036\, United States
CATEGORIES:Churchwide,Conference
ATTACH;FMTTYPE=image/jpeg:https://www.fbclebanonoh.com/wp-content/uploads/2021/04/globe.jpg
END:VEVENT
BEGIN:VEVENT
DTSTART;TZID=America/New_York:20261010T170000
DTEND;TZID=America/New_York:20261010T170000
DTSTAMP:20260423T183931
CREATED:20260202T190818Z
LAST-MODIFIED:20260202T190818Z
UID:726-1791651600-1791651600@www.fbclebanonoh.com
SUMMARY:International Dinner
DESCRIPTION:Join us for a special Missions Conference International Dinner!
URL:https://www.fbclebanonoh.com/event/international-dinner-3/
LOCATION:Fellowship Baptist Church\, 1634 Shattuck St\, Lebanon\, OH\, 45036\, United States
CATEGORIES:Churchwide
ATTACH;FMTTYPE=image/jpeg:https://www.fbclebanonoh.com/wp-content/uploads/2021/04/globe.jpg
END:VEVENT
BEGIN:VEVENT
DTSTART;VALUE=DATE:20261011
DTEND;VALUE=DATE:20261012
DTSTAMP:20260423T183931
CREATED:20260202T190735Z
LAST-MODIFIED:20260202T190735Z
UID:724-1791676800-1791763199@www.fbclebanonoh.com
SUMMARY:Missions Conference
DESCRIPTION:Join us for our 2026 Missions Conference. Evening services will be held 7:00pm Wednesday–Friday\, October 7–9\, 2026. We will have an international dinner at 5:oopm on Saturday\, October 10\, and our Missions Conference will conclude on Sunday\, October 11.
URL:https://www.fbclebanonoh.com/event/missions-conference-11/
LOCATION:Fellowship Baptist Church\, 1634 Shattuck St\, Lebanon\, OH\, 45036\, United States
CATEGORIES:Churchwide,Conference
ATTACH;FMTTYPE=image/jpeg:https://www.fbclebanonoh.com/wp-content/uploads/2021/04/globe.jpg
END:VEVENT
BEGIN:VEVENT
DTSTART;TZID=America/New_York:20261014T183000
DTEND;TZID=America/New_York:20261014T183000
DTSTAMP:20260423T183931
CREATED:20260202T190904Z
LAST-MODIFIED:20260202T190904Z
UID:728-1792002600-1792002600@www.fbclebanonoh.com
SUMMARY:Midweek Service at LBT
DESCRIPTION:There will be no midweek service at Fellowship on Wednesday\, October 14 as we will be joining Lebanon Baptist Temple for a joined midweek service.
URL:https://www.fbclebanonoh.com/event/midweek-service-at-lbt-5/
LOCATION:Lebanon Baptist Temple\, 130 W Silver St\, Lebanon\, OH\, 45036\, United States
CATEGORIES:Churchwide
ATTACH;FMTTYPE=image/jpeg:https://www.fbclebanonoh.com/wp-content/uploads/2021/04/lbt.jpg
END:VEVENT
BEGIN:VEVENT
DTSTART;TZID=America/New_York:20261031T180000
DTEND;TZID=America/New_York:20261031T180000
DTSTAMP:20260423T183931
CREATED:20260202T191316Z
LAST-MODIFIED:20260202T191316Z
UID:730-1793469600-1793469600@www.fbclebanonoh.com
SUMMARY:Chili and Campfires
DESCRIPTION:
URL:https://www.fbclebanonoh.com/event/chili-and-campfires/
LOCATION:Fellowship Baptist Church\, 1634 Shattuck St\, Lebanon\, OH\, 45036\, United States
CATEGORIES:Churchwide
ATTACH;FMTTYPE=image/webp:https://www.fbclebanonoh.com/wp-content/uploads/2026/02/chili-campfires.webp
END:VEVENT
BEGIN:VEVENT
DTSTART;VALUE=DATE:20261108
DTEND;VALUE=DATE:20261109
DTSTAMP:20260423T183931
CREATED:20260202T191433Z
LAST-MODIFIED:20260202T191433Z
UID:733-1794096000-1794182399@www.fbclebanonoh.com
SUMMARY:Service to Honor Veterans
DESCRIPTION:
URL:https://www.fbclebanonoh.com/event/service-to-honor-veterans-3/
LOCATION:Fellowship Baptist Church\, 1634 Shattuck St\, Lebanon\, OH\, 45036\, United States
CATEGORIES:Conference
ATTACH;FMTTYPE=image/jpeg:https://www.fbclebanonoh.com/wp-content/uploads/2021/04/veteran.jpg
END:VEVENT
BEGIN:VEVENT
DTSTART;TZID=America/New_York:20261124T190000
DTEND;TZID=America/New_York:20261124T190000
DTSTAMP:20260423T183931
CREATED:20260202T191505Z
LAST-MODIFIED:20260202T191505Z
UID:735-1795546800-1795546800@www.fbclebanonoh.com
SUMMARY:Thanksgiving Service
DESCRIPTION:Join us for a special Thanksgiving service Tuesday\, November 24. There will be no midweek service Wednesday\, November 25.
URL:https://www.fbclebanonoh.com/event/thanksgiving-service-6/
LOCATION:Fellowship Baptist Church\, 1634 Shattuck St\, Lebanon\, OH\, 45036\, United States
CATEGORIES:Churchwide
ATTACH;FMTTYPE=image/jpeg:https://www.fbclebanonoh.com/wp-content/uploads/2021/04/thank-you.jpg
END:VEVENT
BEGIN:VEVENT
DTSTART;TZID=America/New_York:20261201T180000
DTEND;TZID=America/New_York:20261201T180000
DTSTAMP:20260423T183931
CREATED:20260202T191533Z
LAST-MODIFIED:20260202T191533Z
UID:737-1796148000-1796148000@www.fbclebanonoh.com
SUMMARY:Ladies’ Christmas Party
DESCRIPTION:
URL:https://www.fbclebanonoh.com/event/ladies-christmas-party-5/
LOCATION:Fellowship Baptist Church\, 1634 Shattuck St\, Lebanon\, OH\, 45036\, United States
CATEGORIES:Womens' Ministry
ATTACH;FMTTYPE=image/jpeg:https://www.fbclebanonoh.com/wp-content/uploads/2022/02/christmas-wreath.jpg
END:VEVENT
BEGIN:VEVENT
DTSTART;TZID=America/New_York:20261214T180000
DTEND;TZID=America/New_York:20261214T180000
DTSTAMP:20260423T183931
CREATED:20260202T191727Z
LAST-MODIFIED:20260202T191727Z
UID:739-1797271200-1797271200@www.fbclebanonoh.com
SUMMARY:Christmas Party for the Adults
DESCRIPTION:
URL:https://www.fbclebanonoh.com/event/christmas-party-for-the-adults/
LOCATION:Fellowship Baptist Church\, 1634 Shattuck St\, Lebanon\, OH\, 45036\, United States
CATEGORIES:Mens' Ministry,Womens' Ministry
ATTACH;FMTTYPE=image/webp:https://www.fbclebanonoh.com/wp-content/uploads/2026/02/christmas-party.webp
END:VEVENT
BEGIN:VEVENT
DTSTART;TZID=America/New_York:20261220T110000
DTEND;TZID=America/New_York:20261220T110000
DTSTAMP:20260423T183931
CREATED:20260202T191812Z
LAST-MODIFIED:20260202T191812Z
UID:742-1797764400-1797764400@www.fbclebanonoh.com
SUMMARY:Christmas Cantata
DESCRIPTION:
URL:https://www.fbclebanonoh.com/event/christmas-cantata-5/
LOCATION:Fellowship Baptist Church\, 1634 Shattuck St\, Lebanon\, OH\, 45036\, United States
CATEGORIES:Churchwide
ATTACH;FMTTYPE=image/jpeg:https://www.fbclebanonoh.com/wp-content/uploads/2021/04/cantata.jpg
END:VEVENT
BEGIN:VEVENT
DTSTART;TZID=America/New_York:20261227T180000
DTEND;TZID=America/New_York:20261227T180000
DTSTAMP:20260423T183931
CREATED:20260202T191836Z
LAST-MODIFIED:20260202T191836Z
UID:744-1798394400-1798394400@www.fbclebanonoh.com
SUMMARY:The Lord’s Supper
DESCRIPTION:We will be observing the Lord’s Supper during the evening service.
URL:https://www.fbclebanonoh.com/event/the-lords-supper-13/
LOCATION:Fellowship Baptist Church\, 1634 Shattuck St\, Lebanon\, OH\, 45036\, United States
CATEGORIES:Churchwide
ATTACH;FMTTYPE=image/jpeg:https://www.fbclebanonoh.com/wp-content/uploads/2021/04/communion.jpg
END:VEVENT
END:VCALENDAR