BEGIN:VCALENDAR
VERSION:2.0
PRODID:-//Fellowship Baptist Church - ECPv6.15.17//NONSGML v1.0//EN
CALSCALE:GREGORIAN
METHOD:PUBLISH
X-WR-CALNAME:Fellowship Baptist Church
X-ORIGINAL-URL:https://www.fbclebanonoh.com
X-WR-CALDESC:Events for Fellowship Baptist Church
REFRESH-INTERVAL;VALUE=DURATION:PT1H
X-Robots-Tag:noindex
X-PUBLISHED-TTL:PT1H
BEGIN:VTIMEZONE
TZID:America/New_York
BEGIN:DAYLIGHT
TZOFFSETFROM:-0500
TZOFFSETTO:-0400
TZNAME:EDT
DTSTART:20230312T070000
END:DAYLIGHT
BEGIN:STANDARD
TZOFFSETFROM:-0400
TZOFFSETTO:-0500
TZNAME:EST
DTSTART:20231105T060000
END:STANDARD
BEGIN:DAYLIGHT
TZOFFSETFROM:-0500
TZOFFSETTO:-0400
TZNAME:EDT
DTSTART:20240310T070000
END:DAYLIGHT
BEGIN:STANDARD
TZOFFSETFROM:-0400
TZOFFSETTO:-0500
TZNAME:EST
DTSTART:20241103T060000
END:STANDARD
BEGIN:DAYLIGHT
TZOFFSETFROM:-0500
TZOFFSETTO:-0400
TZNAME:EDT
DTSTART:20250309T070000
END:DAYLIGHT
BEGIN:STANDARD
TZOFFSETFROM:-0400
TZOFFSETTO:-0500
TZNAME:EST
DTSTART:20251102T060000
END:STANDARD
END:VTIMEZONE
BEGIN:VEVENT
DTSTART;TZID=America/New_York:20241226T190000
DTEND;TZID=America/New_York:20241226T190000
DTSTAMP:20260423T201911
CREATED:20240201T171351Z
LAST-MODIFIED:20240201T171351Z
UID:596-1735239600-1735239600@www.fbclebanonoh.com
SUMMARY:Christmas Midweek Service
DESCRIPTION:Join us for a special Christmas midweek service Thursday\, December 26. There will be no midweek service Wednesday\, December 25.
URL:https://www.fbclebanonoh.com/event/christmas-midweek-service/
LOCATION:Fellowship Baptist Church\, 1634 Shattuck St\, Lebanon\, OH\, 45036\, United States
CATEGORIES:Churchwide
ATTACH;FMTTYPE=image/jpeg:https://www.fbclebanonoh.com/wp-content/uploads/2021/04/candle.jpg
END:VEVENT
BEGIN:VEVENT
DTSTART;TZID=America/New_York:20241222T110000
DTEND;TZID=America/New_York:20241222T110000
DTSTAMP:20260423T201911
CREATED:20240201T171135Z
LAST-MODIFIED:20240201T171135Z
UID:591-1734865200-1734865200@www.fbclebanonoh.com
SUMMARY:Christmas Cantata
DESCRIPTION:
URL:https://www.fbclebanonoh.com/event/christmas-cantata-3/
LOCATION:Fellowship Baptist Church\, 1634 Shattuck St\, Lebanon\, OH\, 45036\, United States
CATEGORIES:Churchwide
ATTACH;FMTTYPE=image/jpeg:https://www.fbclebanonoh.com/wp-content/uploads/2021/04/cantata.jpg
END:VEVENT
BEGIN:VEVENT
DTSTART;TZID=America/New_York:20241211T190000
DTEND;TZID=America/New_York:20241211T190000
DTSTAMP:20260423T201911
CREATED:20240201T171055Z
LAST-MODIFIED:20240201T171055Z
UID:589-1733943600-1733943600@www.fbclebanonoh.com
SUMMARY:Childrens’ Christmas Program
DESCRIPTION:
URL:https://www.fbclebanonoh.com/event/childrens-christmas-program-3/
LOCATION:Fellowship Baptist Church\, 1634 Shattuck St\, Lebanon\, OH\, 45036\, United States
CATEGORIES:Childrens' Ministry
ATTACH;FMTTYPE=image/jpeg:https://www.fbclebanonoh.com/wp-content/uploads/2022/02/christmas-program.jpg
END:VEVENT
BEGIN:VEVENT
DTSTART;TZID=America/New_York:20241210T180000
DTEND;TZID=America/New_York:20241210T180000
DTSTAMP:20260423T201911
CREATED:20240201T171214Z
LAST-MODIFIED:20240201T171231Z
UID:593-1733853600-1733853600@www.fbclebanonoh.com
SUMMARY:Christmas Banquet
DESCRIPTION:
URL:https://www.fbclebanonoh.com/event/christmas-banquet/
LOCATION:Fellowship Baptist Church\, 1634 Shattuck St\, Lebanon\, OH\, 45036\, United States
CATEGORIES:Churchwide
ATTACH;FMTTYPE=image/jpeg:https://www.fbclebanonoh.com/wp-content/uploads/2021/04/christmas-trees.jpg
END:VEVENT
BEGIN:VEVENT
DTSTART;TZID=America/New_York:20241207T173000
DTEND;TZID=America/New_York:20241207T173000
DTSTAMP:20260423T201911
CREATED:20240201T170930Z
LAST-MODIFIED:20240201T170949Z
UID:585-1733592600-1733592600@www.fbclebanonoh.com
SUMMARY:ChristmasTown at Creation Museum
DESCRIPTION:
URL:https://www.fbclebanonoh.com/event/christmastown-at-creation-museum/
LOCATION:Creation Museum\, 2800 Bullittsburg Church Rd\, Petersburg\, KY\, 41080\, United States
CATEGORIES:Churchwide
ATTACH;FMTTYPE=image/jpeg:https://www.fbclebanonoh.com/wp-content/uploads/2024/02/christmastown.jpg
END:VEVENT
BEGIN:VEVENT
DTSTART;TZID=America/New_York:20241205T190000
DTEND;TZID=America/New_York:20241205T190000
DTSTAMP:20260423T201911
CREATED:20240201T170443Z
LAST-MODIFIED:20240201T170443Z
UID:583-1733425200-1733425200@www.fbclebanonoh.com
SUMMARY:Ladies’ Christmas Party
DESCRIPTION:
URL:https://www.fbclebanonoh.com/event/ladies-christmas-party-3/
LOCATION:Fellowship Baptist Church\, 1634 Shattuck St\, Lebanon\, OH\, 45036\, United States
CATEGORIES:Womens' Ministry
ATTACH;FMTTYPE=image/jpeg:https://www.fbclebanonoh.com/wp-content/uploads/2022/02/christmas-wreath.jpg
END:VEVENT
BEGIN:VEVENT
DTSTART;TZID=America/New_York:20241126T190000
DTEND;TZID=America/New_York:20241126T190000
DTSTAMP:20260423T201911
CREATED:20240201T170400Z
LAST-MODIFIED:20240201T170400Z
UID:581-1732647600-1732647600@www.fbclebanonoh.com
SUMMARY:Thanksgiving Service
DESCRIPTION:Join us for a special Thanksgiving service Tuesday\, November 26. There will be no midweek service Wednesday\, November 27.
URL:https://www.fbclebanonoh.com/event/thanksgiving-service-4/
LOCATION:Fellowship Baptist Church\, 1634 Shattuck St\, Lebanon\, OH\, 45036\, United States
CATEGORIES:Churchwide
ATTACH;FMTTYPE=image/jpeg:https://www.fbclebanonoh.com/wp-content/uploads/2021/04/thank-you.jpg
END:VEVENT
BEGIN:VEVENT
DTSTART;TZID=America/New_York:20241110T000000
DTEND;TZID=America/New_York:20241110T235959
DTSTAMP:20260423T201911
CREATED:20240201T170313Z
LAST-MODIFIED:20240201T170313Z
UID:579-1731196800-1731283199@www.fbclebanonoh.com
SUMMARY:Service to Honor Veterans
DESCRIPTION:
URL:https://www.fbclebanonoh.com/event/service-to-honor-veterans/
LOCATION:Fellowship Baptist Church\, 1634 Shattuck St\, Lebanon\, OH\, 45036\, United States
CATEGORIES:Conference
ATTACH;FMTTYPE=image/jpeg:https://www.fbclebanonoh.com/wp-content/uploads/2021/04/veteran.jpg
END:VEVENT
BEGIN:VEVENT
DTSTART;TZID=America/New_York:20241027T000000
DTEND;TZID=America/New_York:20241027T235959
DTSTAMP:20260423T201911
CREATED:20240201T170230Z
LAST-MODIFIED:20240201T170230Z
UID:576-1729987200-1730073599@www.fbclebanonoh.com
SUMMARY:First Responders Sunday
DESCRIPTION:
URL:https://www.fbclebanonoh.com/event/first-responders-sunday/
LOCATION:Fellowship Baptist Church\, 1634 Shattuck St\, Lebanon\, OH\, 45036\, United States
CATEGORIES:Churchwide
ATTACH;FMTTYPE=image/jpeg:https://www.fbclebanonoh.com/wp-content/uploads/2024/02/first-responder.jpg
END:VEVENT
BEGIN:VEVENT
DTSTART;TZID=America/New_York:20241019T190000
DTEND;TZID=America/New_York:20241019T190000
DTSTAMP:20260423T201911
CREATED:20240201T165849Z
LAST-MODIFIED:20240201T165849Z
UID:573-1729364400-1729364400@www.fbclebanonoh.com
SUMMARY:Church Bonfire
DESCRIPTION:
URL:https://www.fbclebanonoh.com/event/church-bonfire/
LOCATION:Fellowship Baptist Church\, 1634 Shattuck St\, Lebanon\, OH\, 45036\, United States
CATEGORIES:Churchwide
ATTACH;FMTTYPE=image/jpeg:https://www.fbclebanonoh.com/wp-content/uploads/2024/02/bonfire.jpg
END:VEVENT
BEGIN:VEVENT
DTSTART;TZID=America/New_York:20240929T100000
DTEND;TZID=America/New_York:20240929T100000
DTSTAMP:20260423T201911
CREATED:20240201T165313Z
LAST-MODIFIED:20240201T165313Z
UID:571-1727604000-1727604000@www.fbclebanonoh.com
SUMMARY:International Dinner
DESCRIPTION:Join us for a special Missions Conference International Dinner after our morning service. There will be no evening service.
URL:https://www.fbclebanonoh.com/event/international-dinner-2/
LOCATION:Fellowship Baptist Church\, 1634 Shattuck St\, Lebanon\, OH\, 45036\, United States
CATEGORIES:Churchwide
ATTACH;FMTTYPE=image/jpeg:https://www.fbclebanonoh.com/wp-content/uploads/2021/04/globe.jpg
END:VEVENT
BEGIN:VEVENT
DTSTART;TZID=America/New_York:20240927T190000
DTEND;TZID=America/New_York:20240927T190000
DTSTAMP:20260423T201911
CREATED:20240201T165229Z
LAST-MODIFIED:20240201T165229Z
UID:569-1727463600-1727463600@www.fbclebanonoh.com
SUMMARY:Missions Conference
DESCRIPTION:Join us for our 2024 Missions Conference. Evening services will be held 7:00pm Wednesday–Friday.
URL:https://www.fbclebanonoh.com/event/missions-conference-7/
LOCATION:Fellowship Baptist Church\, 1634 Shattuck St\, Lebanon\, OH\, 45036\, United States
CATEGORIES:Churchwide,Conference
ATTACH;FMTTYPE=image/jpeg:https://www.fbclebanonoh.com/wp-content/uploads/2021/04/globe.jpg
END:VEVENT
BEGIN:VEVENT
DTSTART;TZID=America/New_York:20240926T190000
DTEND;TZID=America/New_York:20240926T190000
DTSTAMP:20260423T201911
CREATED:20240201T165212Z
LAST-MODIFIED:20240201T165212Z
UID:567-1727377200-1727377200@www.fbclebanonoh.com
SUMMARY:Missions Conference
DESCRIPTION:Join us for our 2024 Missions Conference. Evening services will be held 7:00pm Wednesday–Friday.
URL:https://www.fbclebanonoh.com/event/missions-conference-6/
LOCATION:Fellowship Baptist Church\, 1634 Shattuck St\, Lebanon\, OH\, 45036\, United States
CATEGORIES:Churchwide,Conference
ATTACH;FMTTYPE=image/jpeg:https://www.fbclebanonoh.com/wp-content/uploads/2021/04/globe.jpg
END:VEVENT
BEGIN:VEVENT
DTSTART;TZID=America/New_York:20240925T190000
DTEND;TZID=America/New_York:20240925T190000
DTSTAMP:20260423T201911
CREATED:20240201T165154Z
LAST-MODIFIED:20240201T165154Z
UID:565-1727290800-1727290800@www.fbclebanonoh.com
SUMMARY:Missions Conference
DESCRIPTION:Join us for our 2024 Missions Conference. Evening services will be held 7:00pm Wednesday–Friday.
URL:https://www.fbclebanonoh.com/event/missions-conference-5/
LOCATION:Fellowship Baptist Church\, 1634 Shattuck St\, Lebanon\, OH\, 45036\, United States
CATEGORIES:Churchwide,Conference
ATTACH;FMTTYPE=image/jpeg:https://www.fbclebanonoh.com/wp-content/uploads/2021/04/globe.jpg
END:VEVENT
BEGIN:VEVENT
DTSTART;TZID=America/New_York:20240901T100000
DTEND;TZID=America/New_York:20240901T100000
DTSTAMP:20260423T201911
CREATED:20240201T165020Z
LAST-MODIFIED:20240201T165020Z
UID:563-1725184800-1725184800@www.fbclebanonoh.com
SUMMARY:Old Fashioned Sunday
DESCRIPTION:Dress up in your oldest outfit! We’ll have dinner on the grounds and there will be no evening service.
URL:https://www.fbclebanonoh.com/event/old-fashioned-sunday-3/
LOCATION:Fellowship Baptist Church\, 1634 Shattuck St\, Lebanon\, OH\, 45036\, United States
CATEGORIES:Churchwide
ATTACH;FMTTYPE=image/jpeg:https://www.fbclebanonoh.com/wp-content/uploads/2021/04/old-car.jpg
END:VEVENT
BEGIN:VEVENT
DTSTART;TZID=America/New_York:20240831T090000
DTEND;TZID=America/New_York:20240831T090000
DTSTAMP:20260423T201911
CREATED:20240201T164931Z
LAST-MODIFIED:20240201T164931Z
UID:561-1725094800-1725094800@www.fbclebanonoh.com
SUMMARY:Outdoor Work and Cleaning Day
DESCRIPTION:
URL:https://www.fbclebanonoh.com/event/outdoor-work-and-cleaning-day-2/
LOCATION:Fellowship Baptist Church\, 1634 Shattuck St\, Lebanon\, OH\, 45036\, United States
CATEGORIES:Churchwide
ATTACH;FMTTYPE=image/jpeg:https://www.fbclebanonoh.com/wp-content/uploads/2023/03/grass.jpg
END:VEVENT
BEGIN:VEVENT
DTSTART;TZID=America/New_York:20240811T180000
DTEND;TZID=America/New_York:20240811T180000
DTSTAMP:20260423T201911
CREATED:20240201T164857Z
LAST-MODIFIED:20240201T164857Z
UID:559-1723399200-1723399200@www.fbclebanonoh.com
SUMMARY:The Lord’s Supper
DESCRIPTION:Join us as we observe the Lord’s Supper in the evening service.
URL:https://www.fbclebanonoh.com/event/the-lords-supper-9/
LOCATION:Fellowship Baptist Church\, 1634 Shattuck St\, Lebanon\, OH\, 45036\, United States
CATEGORIES:Churchwide
ATTACH;FMTTYPE=image/jpeg:https://www.fbclebanonoh.com/wp-content/uploads/2021/04/communion.jpg
END:VEVENT
BEGIN:VEVENT
DTSTART;TZID=America/New_York:20240804T110000
DTEND;TZID=America/New_York:20240804T110000
DTSTAMP:20260423T201911
CREATED:20240201T164809Z
LAST-MODIFIED:20240201T164809Z
UID:557-1722769200-1722769200@www.fbclebanonoh.com
SUMMARY:Promotion Sunday
DESCRIPTION:
URL:https://www.fbclebanonoh.com/event/promotion-sunday/
LOCATION:Fellowship Baptist Church\, 1634 Shattuck St\, Lebanon\, OH\, 45036\, United States
CATEGORIES:Childrens' Ministry,Churchwide
ATTACH;FMTTYPE=image/jpeg:https://www.fbclebanonoh.com/wp-content/uploads/2023/03/promotion-sunday.jpg
END:VEVENT
BEGIN:VEVENT
DTSTART;TZID=America/New_York:20240721T100000
DTEND;TZID=America/New_York:20240721T100000
DTSTAMP:20260423T201911
CREATED:20240201T164721Z
LAST-MODIFIED:20240201T164721Z
UID:555-1721556000-1721556000@www.fbclebanonoh.com
SUMMARY:Homecoming Service
DESCRIPTION:Make plans to join us for our 2024 Homecoming Service. There will be no evening service.
URL:https://www.fbclebanonoh.com/event/homecoming-service-4/
LOCATION:Fellowship Baptist Church\, 1634 Shattuck St\, Lebanon\, OH\, 45036\, United States
CATEGORIES:Churchwide
ATTACH;FMTTYPE=image/jpeg:https://www.fbclebanonoh.com/wp-content/uploads/2021/04/church.jpg
END:VEVENT
BEGIN:VEVENT
DTSTART;TZID=America/New_York:20240719T190000
DTEND;TZID=America/New_York:20240719T190000
DTSTAMP:20260423T201911
CREATED:20240201T164617Z
LAST-MODIFIED:20240201T164617Z
UID:552-1721415600-1721415600@www.fbclebanonoh.com
SUMMARY:Revival Meeting with Buster Kinsey
DESCRIPTION:Evangelist Buster Kinsey will be joining us for a revival meeting from Sunday\, July 14 through Friday\, July 19\, 2024. He will be preaching both services on Sunday\, then preaching each evening at 7:00pm.
URL:https://www.fbclebanonoh.com/event/revival-meeting-with-buster-kinsey-5/
LOCATION:Fellowship Baptist Church\, 1634 Shattuck St\, Lebanon\, OH\, 45036\, United States
CATEGORIES:Churchwide,Revival Meeting
ATTACH;FMTTYPE=image/jpeg:https://www.fbclebanonoh.com/wp-content/uploads/2024/02/buster-kinsey.jpg
END:VEVENT
BEGIN:VEVENT
DTSTART;TZID=America/New_York:20240718T190000
DTEND;TZID=America/New_York:20240718T190000
DTSTAMP:20260423T201911
CREATED:20240201T164453Z
LAST-MODIFIED:20240201T164453Z
UID:550-1721329200-1721329200@www.fbclebanonoh.com
SUMMARY:Revival with Buster Kinsey
DESCRIPTION:Evangelist Buster Kinsey will be joining us for a revival meeting from Sunday\, July 14 through Friday\, July 19\, 2024. He will be preaching both services on Sunday\, then preaching each evening at 7:00pm.
URL:https://www.fbclebanonoh.com/event/revival-with-buster-kinsey/
LOCATION:Fellowship Baptist Church\, 1634 Shattuck St\, Lebanon\, OH\, 45036\, United States
CATEGORIES:Churchwide,Revival Meeting
ATTACH;FMTTYPE=image/jpeg:https://www.fbclebanonoh.com/wp-content/uploads/2024/02/buster-kinsey.jpg
END:VEVENT
BEGIN:VEVENT
DTSTART;TZID=America/New_York:20240717T190000
DTEND;TZID=America/New_York:20240717T190000
DTSTAMP:20260423T201911
CREATED:20240201T164417Z
LAST-MODIFIED:20240201T164417Z
UID:547-1721242800-1721242800@www.fbclebanonoh.com
SUMMARY:Revival Meeting with Buster Kinsey
DESCRIPTION:Evangelist Buster Kinsey will be joining us for a revival meeting from Sunday\, July 14 through Friday\, July 19\, 2024. He will be preaching both services on Sunday\, then preaching each evening at 7:00pm.
URL:https://www.fbclebanonoh.com/event/revival-meeting-with-buster-kinsey-4/
LOCATION:Fellowship Baptist Church\, 1634 Shattuck St\, Lebanon\, OH\, 45036\, United States
CATEGORIES:Churchwide,Revival Meeting
ATTACH;FMTTYPE=image/jpeg:https://www.fbclebanonoh.com/wp-content/uploads/2024/02/buster-kinsey.jpg
END:VEVENT
BEGIN:VEVENT
DTSTART;TZID=America/New_York:20240716T190000
DTEND;TZID=America/New_York:20240716T190000
DTSTAMP:20260423T201911
CREATED:20240201T164327Z
LAST-MODIFIED:20240201T164327Z
UID:544-1721156400-1721156400@www.fbclebanonoh.com
SUMMARY:Revival Meeting with Buster Kinsey
DESCRIPTION:Evangelist Buster Kinsey will be joining us for a revival meeting from Sunday\, July 14 through Friday\, July 19\, 2024. He will be preaching both services on Sunday\, then preaching each evening at 7:00pm.
URL:https://www.fbclebanonoh.com/event/revival-meeting-with-buster-kinsey-3/
LOCATION:Fellowship Baptist Church\, 1634 Shattuck St\, Lebanon\, OH\, 45036\, United States
CATEGORIES:Churchwide,Revival Meeting
ATTACH;FMTTYPE=image/jpeg:https://www.fbclebanonoh.com/wp-content/uploads/2024/02/buster-kinsey.jpg
END:VEVENT
BEGIN:VEVENT
DTSTART;TZID=America/New_York:20240715T190000
DTEND;TZID=America/New_York:20240715T190000
DTSTAMP:20260423T201911
CREATED:20240201T164242Z
LAST-MODIFIED:20240201T164242Z
UID:541-1721070000-1721070000@www.fbclebanonoh.com
SUMMARY:Revival Meeting with Buster Kinsey
DESCRIPTION:Evangelist Buster Kinsey will be joining us for a revival meeting from Sunday\, July 14 through Friday\, July 19\, 2024. He will be preaching both services on Sunday\, then preaching each evening at 7:00pm.
URL:https://www.fbclebanonoh.com/event/revival-meeting-with-buster-kinsey-2/
LOCATION:Fellowship Baptist Church\, 1634 Shattuck St\, Lebanon\, OH\, 45036\, United States
CATEGORIES:Churchwide,Revival Meeting
ATTACH;FMTTYPE=image/jpeg:https://www.fbclebanonoh.com/wp-content/uploads/2024/02/buster-kinsey.jpg
END:VEVENT
BEGIN:VEVENT
DTSTART;TZID=America/New_York:20240714T000000
DTEND;TZID=America/New_York:20240714T235959
DTSTAMP:20260423T201911
CREATED:20240201T164202Z
LAST-MODIFIED:20240201T164202Z
UID:537-1720915200-1721001599@www.fbclebanonoh.com
SUMMARY:Revival Meeting with Buster Kinsey
DESCRIPTION:Evangelist Buster Kinsey will be joining us for a revival meeting from Sunday\, July 14 through Friday\, July 19\, 2024. He will be preaching both services on Sunday\, then preaching each evening at 7:00pm.
URL:https://www.fbclebanonoh.com/event/revival-meeting-with-buster-kinsey/
LOCATION:Fellowship Baptist Church\, 1634 Shattuck St\, Lebanon\, OH\, 45036\, United States
CATEGORIES:Churchwide,Revival Meeting
ATTACH;FMTTYPE=image/jpeg:https://www.fbclebanonoh.com/wp-content/uploads/2024/02/buster-kinsey.jpg
END:VEVENT
BEGIN:VEVENT
DTSTART;TZID=America/New_York:20240707T000000
DTEND;TZID=America/New_York:20240707T235959
DTSTAMP:20260423T201911
CREATED:20240201T163756Z
LAST-MODIFIED:20240201T163756Z
UID:534-1720310400-1720396799@www.fbclebanonoh.com
SUMMARY:Deaf Choir (Hands of Praise) Sunday
DESCRIPTION:
URL:https://www.fbclebanonoh.com/event/deaf-choir-hands-of-praise-sunday/
LOCATION:Fellowship Baptist Church\, 1634 Shattuck St\, Lebanon\, OH\, 45036\, United States
CATEGORIES:Churchwide
ATTACH;FMTTYPE=image/jpeg:https://www.fbclebanonoh.com/wp-content/uploads/2024/02/hands-of-praise.jpg
END:VEVENT
BEGIN:VEVENT
DTSTART;TZID=America/New_York:20240616T000000
DTEND;TZID=America/New_York:20240616T235959
DTSTAMP:20260423T201911
CREATED:20240201T162931Z
LAST-MODIFIED:20240201T163503Z
UID:531-1718496000-1718582399@www.fbclebanonoh.com
SUMMARY:Evangelist Mark Rogers
DESCRIPTION:Evangelist and singer Mark Rogers will be singing and preaching at the morning and evening services.
URL:https://www.fbclebanonoh.com/event/evangelist-mark-rogers-3/
LOCATION:Fellowship Baptist Church\, 1634 Shattuck St\, Lebanon\, OH\, 45036\, United States
CATEGORIES:Churchwide
ATTACH;FMTTYPE=image/jpeg:https://www.fbclebanonoh.com/wp-content/uploads/2024/02/mark-rogers.jpg
END:VEVENT
BEGIN:VEVENT
DTSTART;TZID=America/New_York:20240615T103000
DTEND;TZID=America/New_York:20240615T103000
DTSTAMP:20260423T201911
CREATED:20240201T162851Z
LAST-MODIFIED:20240510T141524Z
UID:528-1718447400-1718447400@www.fbclebanonoh.com
SUMMARY:Sportsman’s Dinner
DESCRIPTION:Men and Boys: Please join us for a Wild Game Sportsman’s Dinner on Saturday\, June 15 at Fellowship Baptist Church! We’ll have a high-powered pellet range competition\, wild game meal\, and prizes for competition winners! The event is free\, but please register below if you plan on attending so we can plan meals accordingly. \nOrder of Events\n\n10:30–11:00am Range Opens\n11:00am–12:00pm Competitions Begin\n12:00pm Wild Game Meal\n12:40pm Speaker Darren Barnett with Sixth Day Outdoor Ministry\n\nActivities\n\nHigh-Powered Pellet Rifles Only\nPellet Gun and BB Range\n.177 Cal. Rifles Provided\nTwo Man Competition Shoot\nBest Long Distance Shooter\n\nDoor Prizes\n\n.350 Legend (ages 18 and older)\nPellet Rifle (ages 13–17)\nFishing pole (ages 5–12)\nand more!\n\nRegister\nFirst Name *Last Name *Email *Phone *Street Address *Apartment\, suite\, etcCity *State *ZIP * Register
URL:https://www.fbclebanonoh.com/event/sportsmans-dinner/
LOCATION:Fellowship Baptist Church\, 1634 Shattuck St\, Lebanon\, OH\, 45036\, United States
CATEGORIES:Mens' Ministry
ATTACH;FMTTYPE=image/jpeg:https://www.fbclebanonoh.com/wp-content/uploads/2024/02/sportsmans-dinner.jpg
END:VEVENT
BEGIN:VEVENT
DTSTART;TZID=America/New_York:20240520T000000
DTEND;TZID=America/New_York:20240523T235959
DTSTAMP:20260423T201911
CREATED:20240201T162303Z
LAST-MODIFIED:20240201T162303Z
UID:525-1716163200-1716508799@www.fbclebanonoh.com
SUMMARY:Bread of Life Camp Meeting
DESCRIPTION:We are looking forward to another great meeting this year and hearing great preaching from faithful men of God from all around the country. We are also excited to welcome back to the Bread of Life Camp Meeting the Matthews Family and many others for Christ-honoring\, Spirit-filled music. Learn more.
URL:https://www.fbclebanonoh.com/event/bread-of-life-camp-meeting-4/
LOCATION:Fellowship Baptist Church\, 1634 Shattuck St\, Lebanon\, OH\, 45036\, United States
CATEGORIES:Conference
ATTACH;FMTTYPE=image/jpeg:https://www.fbclebanonoh.com/wp-content/uploads/2021/04/church.jpg
END:VEVENT
BEGIN:VEVENT
DTSTART;TZID=America/New_York:20240504T100000
DTEND;TZID=America/New_York:20240504T100000
DTSTAMP:20260423T201911
CREATED:20240201T162015Z
LAST-MODIFIED:20240201T162015Z
UID:523-1714816800-1714816800@www.fbclebanonoh.com
SUMMARY:Mother and Daughter Brunch
DESCRIPTION:
URL:https://www.fbclebanonoh.com/event/mother-and-daughter-brunch-4/
LOCATION:Fellowship Baptist Church\, 1634 Shattuck St\, Lebanon\, OH\, 45036\, United States
CATEGORIES:Womens' Ministry
ATTACH;FMTTYPE=image/jpeg:https://www.fbclebanonoh.com/wp-content/uploads/2021/04/brunch.jpg
END:VEVENT
END:VCALENDAR