BEGIN:VCALENDAR
VERSION:2.0
PRODID:-//Fellowship Baptist Church - ECPv6.15.17//NONSGML v1.0//EN
CALSCALE:GREGORIAN
METHOD:PUBLISH
X-WR-CALNAME:Fellowship Baptist Church
X-ORIGINAL-URL:https://www.fbclebanonoh.com
X-WR-CALDESC:Events for Fellowship Baptist Church
REFRESH-INTERVAL;VALUE=DURATION:PT1H
X-Robots-Tag:noindex
X-PUBLISHED-TTL:PT1H
BEGIN:VTIMEZONE
TZID:America/New_York
BEGIN:DAYLIGHT
TZOFFSETFROM:-0500
TZOFFSETTO:-0400
TZNAME:EDT
DTSTART:20200308T070000
END:DAYLIGHT
BEGIN:STANDARD
TZOFFSETFROM:-0400
TZOFFSETTO:-0500
TZNAME:EST
DTSTART:20201101T060000
END:STANDARD
BEGIN:DAYLIGHT
TZOFFSETFROM:-0500
TZOFFSETTO:-0400
TZNAME:EDT
DTSTART:20210314T070000
END:DAYLIGHT
BEGIN:STANDARD
TZOFFSETFROM:-0400
TZOFFSETTO:-0500
TZNAME:EST
DTSTART:20211107T060000
END:STANDARD
BEGIN:DAYLIGHT
TZOFFSETFROM:-0500
TZOFFSETTO:-0400
TZNAME:EDT
DTSTART:20220313T070000
END:DAYLIGHT
BEGIN:STANDARD
TZOFFSETFROM:-0400
TZOFFSETTO:-0500
TZNAME:EST
DTSTART:20221106T060000
END:STANDARD
END:VTIMEZONE
BEGIN:VEVENT
DTSTART;TZID=America/New_York:20210501T100000
DTEND;TZID=America/New_York:20210501T100000
DTSTAMP:20260424T185551
CREATED:20210422T182638Z
LAST-MODIFIED:20210422T183514Z
UID:184-1619863200-1619863200@www.fbclebanonoh.com
SUMMARY:Mother and Daughter Brunch
DESCRIPTION:
URL:https://www.fbclebanonoh.com/event/mother-and-daughter-brunch/
LOCATION:Fellowship Baptist Church\, 1634 Shattuck St\, Lebanon\, OH\, 45036\, United States
CATEGORIES:Womens' Ministry
ATTACH;FMTTYPE=image/jpeg:https://www.fbclebanonoh.com/wp-content/uploads/2021/04/brunch.jpg
END:VEVENT
END:VCALENDAR