BEGIN:VCALENDAR
VERSION:2.0
PRODID:-//Fellowship Baptist Church - ECPv6.15.17//NONSGML v1.0//EN
CALSCALE:GREGORIAN
METHOD:PUBLISH
X-WR-CALNAME:Fellowship Baptist Church
X-ORIGINAL-URL:https://www.fbclebanonoh.com
X-WR-CALDESC:Events for Fellowship Baptist Church
REFRESH-INTERVAL;VALUE=DURATION:PT1H
X-Robots-Tag:noindex
X-PUBLISHED-TTL:PT1H
BEGIN:VTIMEZONE
TZID:America/New_York
BEGIN:DAYLIGHT
TZOFFSETFROM:-0500
TZOFFSETTO:-0400
TZNAME:EDT
DTSTART:20240310T070000
END:DAYLIGHT
BEGIN:STANDARD
TZOFFSETFROM:-0400
TZOFFSETTO:-0500
TZNAME:EST
DTSTART:20241103T060000
END:STANDARD
BEGIN:DAYLIGHT
TZOFFSETFROM:-0500
TZOFFSETTO:-0400
TZNAME:EDT
DTSTART:20250309T070000
END:DAYLIGHT
BEGIN:STANDARD
TZOFFSETFROM:-0400
TZOFFSETTO:-0500
TZNAME:EST
DTSTART:20251102T060000
END:STANDARD
BEGIN:DAYLIGHT
TZOFFSETFROM:-0500
TZOFFSETTO:-0400
TZNAME:EDT
DTSTART:20260308T070000
END:DAYLIGHT
BEGIN:STANDARD
TZOFFSETFROM:-0400
TZOFFSETTO:-0500
TZNAME:EST
DTSTART:20261101T060000
END:STANDARD
BEGIN:DAYLIGHT
TZOFFSETFROM:-0500
TZOFFSETTO:-0400
TZNAME:EDT
DTSTART:20270314T070000
END:DAYLIGHT
BEGIN:STANDARD
TZOFFSETFROM:-0400
TZOFFSETTO:-0500
TZNAME:EST
DTSTART:20271107T060000
END:STANDARD
END:VTIMEZONE
BEGIN:VEVENT
DTSTART;TZID=America/New_York:20260524T120000
DTEND;TZID=America/New_York:20260524T120000
DTSTAMP:20260423T183612
CREATED:20260202T185519Z
LAST-MODIFIED:20260202T185519Z
UID:699-1779624000-1779624000@www.fbclebanonoh.com
SUMMARY:Fellowship Dinner
DESCRIPTION:Join us for a dinner together after the morning service\, potluck style. There will be no evening service.
URL:https://www.fbclebanonoh.com/event/fellowship-dinner-6/
LOCATION:Fellowship Baptist Church\, 1634 Shattuck St\, Lebanon\, OH\, 45036\, United States
CATEGORIES:Churchwide
ATTACH;FMTTYPE=image/jpeg:https://www.fbclebanonoh.com/wp-content/uploads/2021/04/table.jpg
END:VEVENT
BEGIN:VEVENT
DTSTART;VALUE=DATE:20260518
DTEND;VALUE=DATE:20260522
DTSTAMP:20260423T183612
CREATED:20260202T185447Z
LAST-MODIFIED:20260202T185447Z
UID:697-1779062400-1779407999@www.fbclebanonoh.com
SUMMARY:Bread of Life Camp Meeting
DESCRIPTION:We are looking forward to another great meeting this year and hearing great preaching from faithful men of God from all around the country. Learn more.
URL:https://www.fbclebanonoh.com/event/bread-of-life-camp-meeting-6/
LOCATION:Fellowship Baptist Church\, 1634 Shattuck St\, Lebanon\, OH\, 45036\, United States
CATEGORIES:Conference
ATTACH;FMTTYPE=image/jpeg:https://www.fbclebanonoh.com/wp-content/uploads/2021/04/church.jpg
END:VEVENT
BEGIN:VEVENT
DTSTART;TZID=America/New_York:20260426T190000
DTEND;TZID=America/New_York:20260426T190000
DTSTAMP:20260423T183612
CREATED:20260202T185332Z
LAST-MODIFIED:20260202T185332Z
UID:695-1777230000-1777230000@www.fbclebanonoh.com
SUMMARY:Church Business Meeting
DESCRIPTION:Members\, please make plans to join us for a church business meeting after the evening service.
URL:https://www.fbclebanonoh.com/event/church-business-meeting-5/
LOCATION:Fellowship Baptist Church\, 1634 Shattuck St\, Lebanon\, OH\, 45036\, United States
CATEGORIES:Business Meeting
ATTACH;FMTTYPE=image/jpeg:https://www.fbclebanonoh.com/wp-content/uploads/2022/02/chairs.jpg
END:VEVENT
BEGIN:VEVENT
DTSTART;TZID=America/New_York:20260425T103000
DTEND;TZID=America/New_York:20260425T103000
DTSTAMP:20260423T183612
CREATED:20260202T185259Z
LAST-MODIFIED:20260202T185259Z
UID:693-1777113000-1777113000@www.fbclebanonoh.com
SUMMARY:Mother and Daughter Brunch
DESCRIPTION:
URL:https://www.fbclebanonoh.com/event/mother-and-daughter-brunch-6/
LOCATION:Fellowship Baptist Church\, 1634 Shattuck St\, Lebanon\, OH\, 45036\, United States
CATEGORIES:Womens' Ministry
ATTACH;FMTTYPE=image/jpeg:https://www.fbclebanonoh.com/wp-content/uploads/2021/04/brunch.jpg
END:VEVENT
BEGIN:VEVENT
DTSTART;TZID=America/New_York:20260424T090000
DTEND;TZID=America/New_York:20260424T090000
DTSTAMP:20260423T183612
CREATED:20260202T185206Z
LAST-MODIFIED:20260202T185206Z
UID:690-1777021200-1777021200@www.fbclebanonoh.com
SUMMARY:FTL Cleaning Day
DESCRIPTION:
URL:https://www.fbclebanonoh.com/event/ftl-cleaning-day-6/
LOCATION:Fellowship Tract League\, 3733 Snook Rd\, Morrow\, OH\, 45152\, United States
CATEGORIES:Fellowship Tract League
ATTACH;FMTTYPE=image/jpeg:https://www.fbclebanonoh.com/wp-content/uploads/2021/04/cleaning.jpg
END:VEVENT
BEGIN:VEVENT
DTSTART;TZID=America/New_York:20260412T170000
DTEND;TZID=America/New_York:20260412T170000
DTSTAMP:20260423T183612
CREATED:20260202T185135Z
LAST-MODIFIED:20260202T185135Z
UID:688-1776013200-1776013200@www.fbclebanonoh.com
SUMMARY:Men’s Meeting and Nomination
DESCRIPTION:
URL:https://www.fbclebanonoh.com/event/mens-meeting-and-nomination-4/
LOCATION:Fellowship Baptist Church\, 1634 Shattuck St\, Lebanon\, OH\, 45036\, United States
CATEGORIES:Business Meeting
ATTACH;FMTTYPE=image/jpeg:https://www.fbclebanonoh.com/wp-content/uploads/2022/02/chairs.jpg
END:VEVENT
BEGIN:VEVENT
DTSTART;TZID=America/New_York:20260411T090000
DTEND;TZID=America/New_York:20260411T090000
DTSTAMP:20260423T183612
CREATED:20260202T185101Z
LAST-MODIFIED:20260202T185101Z
UID:686-1775898000-1775898000@www.fbclebanonoh.com
SUMMARY:Church Cleaning Day
DESCRIPTION:
URL:https://www.fbclebanonoh.com/event/church-cleaning-day-5/
LOCATION:Fellowship Baptist Church\, 1634 Shattuck St\, Lebanon\, OH\, 45036\, United States
CATEGORIES:Churchwide
ATTACH;FMTTYPE=image/jpeg:https://www.fbclebanonoh.com/wp-content/uploads/2021/04/cleaning.jpg
END:VEVENT
BEGIN:VEVENT
DTSTART;TZID=America/New_York:20260405T180000
DTEND;TZID=America/New_York:20260405T180000
DTSTAMP:20260423T183612
CREATED:20260202T185027Z
LAST-MODIFIED:20260202T185027Z
UID:684-1775412000-1775412000@www.fbclebanonoh.com
SUMMARY:The Lord’s Supper
DESCRIPTION:We will be observing the Lord’s Supper during the evening service.
URL:https://www.fbclebanonoh.com/event/the-lords-supper-11/
LOCATION:Fellowship Baptist Church\, 1634 Shattuck St\, Lebanon\, OH\, 45036\, United States
CATEGORIES:Churchwide
ATTACH;FMTTYPE=image/jpeg:https://www.fbclebanonoh.com/wp-content/uploads/2021/04/communion.jpg
END:VEVENT
BEGIN:VEVENT
DTSTART;TZID=America/New_York:20260405T110000
DTEND;TZID=America/New_York:20260405T110000
DTSTAMP:20260423T183612
CREATED:20260202T184906Z
LAST-MODIFIED:20260202T184906Z
UID:682-1775386800-1775386800@www.fbclebanonoh.com
SUMMARY:Easter Cantata
DESCRIPTION:
URL:https://www.fbclebanonoh.com/event/easter-cantata-5/
LOCATION:Fellowship Baptist Church\, 1634 Shattuck St\, Lebanon\, OH\, 45036\, United States
CATEGORIES:Churchwide
ATTACH;FMTTYPE=image/jpeg:https://www.fbclebanonoh.com/wp-content/uploads/2024/02/easter-cantata-1.jpg
END:VEVENT
BEGIN:VEVENT
DTSTART;TZID=America/New_York:20260401T190000
DTEND;TZID=America/New_York:20260401T190000
DTSTAMP:20260423T183612
CREATED:20260202T184837Z
LAST-MODIFIED:20260202T184837Z
UID:680-1775070000-1775070000@www.fbclebanonoh.com
SUMMARY:Children’s Easter at FBC
DESCRIPTION:
URL:https://www.fbclebanonoh.com/event/childrens-easter-at-fbc-4/
LOCATION:Fellowship Baptist Church\, 1634 Shattuck St\, Lebanon\, OH\, 45036\, United States
CATEGORIES:Childrens' Ministry,Churchwide
ATTACH;FMTTYPE=image/jpeg:https://www.fbclebanonoh.com/wp-content/uploads/2022/02/easter-program.jpg
END:VEVENT
BEGIN:VEVENT
DTSTART;TZID=America/New_York:20260327T180000
DTEND;TZID=America/New_York:20260327T180000
DTSTAMP:20260423T183612
CREATED:20260202T184713Z
LAST-MODIFIED:20260202T184713Z
UID:677-1774634400-1774634400@www.fbclebanonoh.com
SUMMARY:Youth Rally
DESCRIPTION:Fellowship Baptist Church is hosting a youth rally March 27\, 2026 beginning at 6pm. Invite your friends!
URL:https://www.fbclebanonoh.com/event/youth-rally/
LOCATION:Fellowship Baptist Church\, 1634 Shattuck St\, Lebanon\, OH\, 45036\, United States
CATEGORIES:Youth Ministry
ATTACH;FMTTYPE=image/webp:https://www.fbclebanonoh.com/wp-content/uploads/2026/02/youth-rally.webp
END:VEVENT
BEGIN:VEVENT
DTSTART;VALUE=DATE:20260315
DTEND;VALUE=DATE:20260316
DTSTAMP:20260423T183612
CREATED:20260202T183427Z
LAST-MODIFIED:20260302T213256Z
UID:674-1773532800-1773619199@www.fbclebanonoh.com
SUMMARY:Guest Speaker: Dale Money
DESCRIPTION:Join us Sunday\, March to hear from Dale Money\, director of FirstBible International. He will be preaching in both the morning and evening services.
URL:https://www.fbclebanonoh.com/event/guest-speaker-dale-money/
LOCATION:Fellowship Baptist Church\, 1634 Shattuck St\, Lebanon\, OH\, 45036\, United States
CATEGORIES:Churchwide
ATTACH;FMTTYPE=image/webp:https://www.fbclebanonoh.com/wp-content/uploads/2026/02/dale-money.webp
END:VEVENT
BEGIN:VEVENT
DTSTART;TZID=America/New_York:20260301T180000
DTEND;TZID=America/New_York:20260301T180000
DTSTAMP:20260423T183612
CREATED:20260202T182600Z
LAST-MODIFIED:20260202T182600Z
UID:671-1772388000-1772388000@www.fbclebanonoh.com
SUMMARY:FTL Update
DESCRIPTION:During our evening worship service\, we will hear a ministry update from the Fellowship Tract League.
URL:https://www.fbclebanonoh.com/event/ftl-update-2/
LOCATION:Fellowship Baptist Church\, 1634 Shattuck St\, Lebanon\, OH\, 45036\, United States
CATEGORIES:Fellowship Tract League
ATTACH;FMTTYPE=image/webp:https://www.fbclebanonoh.com/wp-content/uploads/2026/02/ftl-update.webp
END:VEVENT
BEGIN:VEVENT
DTSTART;TZID=America/New_York:20260208T103000
DTEND;TZID=America/New_York:20260208T103000
DTSTAMP:20260423T183612
CREATED:20260202T182052Z
LAST-MODIFIED:20260202T182113Z
UID:667-1770546600-1770546600@www.fbclebanonoh.com
SUMMARY:Scott Matthews
DESCRIPTION:We will be having a special combined service with Bro. Scott Matthews. Sunday school and the evening service will be combined into one service at 10:30am.
URL:https://www.fbclebanonoh.com/event/scott-matthews/
LOCATION:Fellowship Baptist Church\, 1634 Shattuck St\, Lebanon\, OH\, 45036\, United States
CATEGORIES:Churchwide
ATTACH;FMTTYPE=image/webp:https://www.fbclebanonoh.com/wp-content/uploads/2026/02/scott-matthews.webp
END:VEVENT
BEGIN:VEVENT
DTSTART;TZID=America/New_York:20260207T180000
DTEND;TZID=America/New_York:20260207T180000
DTSTAMP:20260423T183612
CREATED:20260202T181641Z
LAST-MODIFIED:20260202T181641Z
UID:665-1770487200-1770487200@www.fbclebanonoh.com
SUMMARY:Valentine Banquet
DESCRIPTION:
URL:https://www.fbclebanonoh.com/event/valentine-banquet-2/
LOCATION:Fellowship Baptist Church\, 1634 Shattuck St\, Lebanon\, OH\, 45036\, United States
CATEGORIES:Banquet
ATTACH;FMTTYPE=image/jpeg:https://www.fbclebanonoh.com/wp-content/uploads/2024/02/valentine-banquet.jpg
END:VEVENT
BEGIN:VEVENT
DTSTART;TZID=America/New_York:20251221T110000
DTEND;TZID=America/New_York:20251221T110000
DTSTAMP:20260423T183612
CREATED:20250303T152950Z
LAST-MODIFIED:20250303T152950Z
UID:662-1766314800-1766314800@www.fbclebanonoh.com
SUMMARY:Christmas Cantata
DESCRIPTION:
URL:https://www.fbclebanonoh.com/event/christmas-cantata-4/
LOCATION:Fellowship Baptist Church\, 1634 Shattuck St\, Lebanon\, OH\, 45036\, United States
CATEGORIES:Churchwide
ATTACH;FMTTYPE=image/jpeg:https://www.fbclebanonoh.com/wp-content/uploads/2021/04/cantata.jpg
END:VEVENT
BEGIN:VEVENT
DTSTART;TZID=America/New_York:20251204T180000
DTEND;TZID=America/New_York:20251204T180000
DTSTAMP:20260423T183612
CREATED:20250303T152924Z
LAST-MODIFIED:20250303T152924Z
UID:660-1764871200-1764871200@www.fbclebanonoh.com
SUMMARY:Ladies’ Christmas Party
DESCRIPTION:
URL:https://www.fbclebanonoh.com/event/ladies-christmas-party-4/
LOCATION:Fellowship Baptist Church\, 1634 Shattuck St\, Lebanon\, OH\, 45036\, United States
CATEGORIES:Womens' Ministry
ATTACH;FMTTYPE=image/jpeg:https://www.fbclebanonoh.com/wp-content/uploads/2022/02/christmas-wreath.jpg
END:VEVENT
BEGIN:VEVENT
DTSTART;TZID=America/New_York:20251125T190000
DTEND;TZID=America/New_York:20251125T190000
DTSTAMP:20260423T183612
CREATED:20250303T152841Z
LAST-MODIFIED:20250303T152841Z
UID:658-1764097200-1764097200@www.fbclebanonoh.com
SUMMARY:Thanksgiving Service
DESCRIPTION:Join us for a special Thanksgiving service Tuesday\, November 25. There will be no midweek service Wednesday\, November 26.
URL:https://www.fbclebanonoh.com/event/thanksgiving-service-5/
LOCATION:Fellowship Baptist Church\, 1634 Shattuck St\, Lebanon\, OH\, 45036\, United States
CATEGORIES:Churchwide
ATTACH;FMTTYPE=image/jpeg:https://www.fbclebanonoh.com/wp-content/uploads/2021/04/thank-you.jpg
END:VEVENT
BEGIN:VEVENT
DTSTART;VALUE=DATE:20251109
DTEND;VALUE=DATE:20251110
DTSTAMP:20260423T183612
CREATED:20250303T152747Z
LAST-MODIFIED:20250303T152747Z
UID:656-1762646400-1762732799@www.fbclebanonoh.com
SUMMARY:Service to Honor Veterans
DESCRIPTION:
URL:https://www.fbclebanonoh.com/event/service-to-honor-veterans-2/
LOCATION:Fellowship Baptist Church\, 1634 Shattuck St\, Lebanon\, OH\, 45036\, United States
CATEGORIES:Conference
ATTACH;FMTTYPE=image/jpeg:https://www.fbclebanonoh.com/wp-content/uploads/2021/04/veteran.jpg
END:VEVENT
BEGIN:VEVENT
DTSTART;TZID=America/New_York:20251015T183000
DTEND;TZID=America/New_York:20251015T183000
DTSTAMP:20260423T183612
CREATED:20250303T152500Z
LAST-MODIFIED:20250303T152500Z
UID:654-1760553000-1760553000@www.fbclebanonoh.com
SUMMARY:Midweek Service at LBT
DESCRIPTION:There will be no midweek service at Fellowship on Wednesday\, October 15 as we will be joining Lebanon Baptist Temple for a joined midweek service.
URL:https://www.fbclebanonoh.com/event/midweek-service-at-lbt-4/
LOCATION:Lebanon Baptist Temple\, 130 W Silver St\, Lebanon\, OH\, 45036\, United States
CATEGORIES:Churchwide
ATTACH;FMTTYPE=image/jpeg:https://www.fbclebanonoh.com/wp-content/uploads/2021/04/lbt.jpg
END:VEVENT
BEGIN:VEVENT
DTSTART;VALUE=DATE:20251012
DTEND;VALUE=DATE:20251013
DTSTAMP:20260423T183612
CREATED:20250303T152412Z
LAST-MODIFIED:20250303T152412Z
UID:651-1760227200-1760313599@www.fbclebanonoh.com
SUMMARY:Thren Family
DESCRIPTION:The Thren Family will be joining us Sunday\, October 12.
URL:https://www.fbclebanonoh.com/event/thren-family-music/
LOCATION:Fellowship Baptist Church\, 1634 Shattuck St\, Lebanon\, OH\, 45036\, United States
CATEGORIES:Churchwide
ATTACH;FMTTYPE=image/webp:https://www.fbclebanonoh.com/wp-content/uploads/2025/03/thren-family.webp
END:VEVENT
BEGIN:VEVENT
DTSTART;TZID=America/New_York:20251005T180000
DTEND;TZID=America/New_York:20251005T180000
DTSTAMP:20260423T183612
CREATED:20250227T203028Z
LAST-MODIFIED:20250227T203028Z
UID:647-1759687200-1759687200@www.fbclebanonoh.com
SUMMARY:Missionary John Combest
DESCRIPTION:Join us Sunday evening\, October 5 to hear from missionary John Combest (missionary to The Democratic Republic of the Congo).
URL:https://www.fbclebanonoh.com/event/missionary-john-combest/
LOCATION:Fellowship Baptist Church\, 1634 Shattuck St\, Lebanon\, OH\, 45036\, United States
CATEGORIES:Churchwide
ATTACH;FMTTYPE=image/webp:https://www.fbclebanonoh.com/wp-content/uploads/2025/02/globe.webp
END:VEVENT
BEGIN:VEVENT
DTSTART;TZID=America/New_York:20250831T100000
DTEND;TZID=America/New_York:20250831T100000
DTSTAMP:20260423T183612
CREATED:20250227T202416Z
LAST-MODIFIED:20250227T202416Z
UID:645-1756634400-1756634400@www.fbclebanonoh.com
SUMMARY:Old Fashioned Sunday
DESCRIPTION:Dress up in your oldest outfit! We’ll have dinner on the grounds and there will be no evening service.
URL:https://www.fbclebanonoh.com/event/old-fashioned-sunday-4/
LOCATION:Fellowship Baptist Church\, 1634 Shattuck St\, Lebanon\, OH\, 45036\, United States
CATEGORIES:Churchwide
ATTACH;FMTTYPE=image/jpeg:https://www.fbclebanonoh.com/wp-content/uploads/2021/04/old-car.jpg
END:VEVENT
BEGIN:VEVENT
DTSTART;TZID=America/New_York:20250713T100000
DTEND;TZID=America/New_York:20250713T100000
DTSTAMP:20260423T183612
CREATED:20250227T202339Z
LAST-MODIFIED:20250227T202339Z
UID:643-1752400800-1752400800@www.fbclebanonoh.com
SUMMARY:Homecoming Service
DESCRIPTION:Make plans to join us for our 2025 Homecoming Service and dinner. There will be no evening service.
URL:https://www.fbclebanonoh.com/event/homecoming-service-5/
LOCATION:Fellowship Baptist Church\, 1634 Shattuck St\, Lebanon\, OH\, 45036\, United States
CATEGORIES:Churchwide
ATTACH;FMTTYPE=image/jpeg:https://www.fbclebanonoh.com/wp-content/uploads/2021/04/church.jpg
END:VEVENT
BEGIN:VEVENT
DTSTART;VALUE=DATE:20250616
DTEND;VALUE=DATE:20250621
DTSTAMP:20260423T183612
CREATED:20250227T202226Z
LAST-MODIFIED:20250227T202226Z
UID:638-1750032000-1750463999@www.fbclebanonoh.com
SUMMARY:Teen Camp at Cozaddale Baptist Temple
DESCRIPTION:
URL:https://www.fbclebanonoh.com/event/teen-camp-at-cozaddale-baptist-temple/
LOCATION:Cozaddale Baptist Temple\, 10632 Eltzroth Rd\, Goshen\, 45122\, United States
CATEGORIES:Youth Ministry
ATTACH;FMTTYPE=image/webp:https://www.fbclebanonoh.com/wp-content/uploads/2025/02/cozaddale.webp
END:VEVENT
BEGIN:VEVENT
DTSTART;VALUE=DATE:20250615
DTEND;VALUE=DATE:20250616
DTSTAMP:20260423T183612
CREATED:20250227T201917Z
LAST-MODIFIED:20250227T201917Z
UID:636-1749945600-1750031999@www.fbclebanonoh.com
SUMMARY:Evangelist Mark Rogers
DESCRIPTION:Evangelist and singer Mark Rogers will be singing and preaching at the morning and evening services.
URL:https://www.fbclebanonoh.com/event/evangelist-mark-rogers-4/
LOCATION:Fellowship Baptist Church\, 1634 Shattuck St\, Lebanon\, OH\, 45036\, United States
CATEGORIES:Churchwide
ATTACH;FMTTYPE=image/jpeg:https://www.fbclebanonoh.com/wp-content/uploads/2024/02/mark-rogers.jpg
END:VEVENT
BEGIN:VEVENT
DTSTART;TZID=America/New_York:20250525T120000
DTEND;TZID=America/New_York:20250525T120000
DTSTAMP:20260423T183612
CREATED:20250227T201804Z
LAST-MODIFIED:20250227T201804Z
UID:632-1748174400-1748174400@www.fbclebanonoh.com
SUMMARY:Fellowship Dinner
DESCRIPTION:Join us for a dinner together after the morning service\, potluck style. There will be no evening service.
URL:https://www.fbclebanonoh.com/event/fellowship-dinner-5/
LOCATION:Fellowship Baptist Church\, 1634 Shattuck St\, Lebanon\, OH\, 45036\, United States
CATEGORIES:Churchwide
ATTACH;FMTTYPE=image/jpeg:https://www.fbclebanonoh.com/wp-content/uploads/2021/04/table.jpg
END:VEVENT
BEGIN:VEVENT
DTSTART;VALUE=DATE:20250519
DTEND;VALUE=DATE:20250523
DTSTAMP:20260423T183612
CREATED:20250227T201839Z
LAST-MODIFIED:20250227T201839Z
UID:634-1747612800-1747958399@www.fbclebanonoh.com
SUMMARY:Bread of Life Camp Meeting
DESCRIPTION:We are looking forward to another great meeting this year and hearing great preaching from faithful men of God from all around the country. We are also excited to welcome back to the Bread of Life Camp Meeting the Matthews Family and many others for Christ-honoring\, Spirit-filled music. Learn more.
URL:https://www.fbclebanonoh.com/event/bread-of-life-camp-meeting-5/
LOCATION:Fellowship Baptist Church\, 1634 Shattuck St\, Lebanon\, OH\, 45036\, United States
CATEGORIES:Conference
ATTACH;FMTTYPE=image/jpeg:https://www.fbclebanonoh.com/wp-content/uploads/2021/04/church.jpg
END:VEVENT
BEGIN:VEVENT
DTSTART;TZID=America/New_York:20250503T100000
DTEND;TZID=America/New_York:20250503T100000
DTSTAMP:20260423T183612
CREATED:20250227T201727Z
LAST-MODIFIED:20250227T201727Z
UID:630-1746266400-1746266400@www.fbclebanonoh.com
SUMMARY:Mother and Daughter Brunch
DESCRIPTION:
URL:https://www.fbclebanonoh.com/event/mother-and-daughter-brunch-5/
LOCATION:Fellowship Baptist Church\, 1634 Shattuck St\, Lebanon\, OH\, 45036\, United States
CATEGORIES:Womens' Ministry
ATTACH;FMTTYPE=image/jpeg:https://www.fbclebanonoh.com/wp-content/uploads/2021/04/brunch.jpg
END:VEVENT
BEGIN:VEVENT
DTSTART;TZID=America/New_York:20250427T190000
DTEND;TZID=America/New_York:20250427T190000
DTSTAMP:20260423T183612
CREATED:20250227T201656Z
LAST-MODIFIED:20250227T201656Z
UID:628-1745780400-1745780400@www.fbclebanonoh.com
SUMMARY:Church Business Meeting
DESCRIPTION:Members\, please make plans to join us for a church business meeting after the evening service on April 27\, 2025.
URL:https://www.fbclebanonoh.com/event/church-business-meeting-4/
LOCATION:Fellowship Baptist Church\, 1634 Shattuck St\, Lebanon\, OH\, 45036\, United States
CATEGORIES:Business Meeting
ATTACH;FMTTYPE=image/jpeg:https://www.fbclebanonoh.com/wp-content/uploads/2022/02/chairs.jpg
END:VEVENT
END:VCALENDAR